BEGIN:VCALENDAR
VERSION:2.0
PRODID:-//Brignoles Basket-Ball - ECPv6.15.20//NONSGML v1.0//EN
CALSCALE:GREGORIAN
METHOD:PUBLISH
X-WR-CALNAME:Brignoles Basket-Ball
X-ORIGINAL-URL:https://brignoles-basket-ball.fr
X-WR-CALDESC:Évènements pour Brignoles Basket-Ball
REFRESH-INTERVAL;VALUE=DURATION:PT1H
X-Robots-Tag:noindex
X-PUBLISHED-TTL:PT1H
BEGIN:VTIMEZONE
TZID:Europe/Paris
BEGIN:DAYLIGHT
TZOFFSETFROM:+0100
TZOFFSETTO:+0200
TZNAME:CEST
DTSTART:20200329T010000
END:DAYLIGHT
BEGIN:STANDARD
TZOFFSETFROM:+0200
TZOFFSETTO:+0100
TZNAME:CET
DTSTART:20201025T010000
END:STANDARD
BEGIN:DAYLIGHT
TZOFFSETFROM:+0100
TZOFFSETTO:+0200
TZNAME:CEST
DTSTART:20210328T010000
END:DAYLIGHT
BEGIN:STANDARD
TZOFFSETFROM:+0200
TZOFFSETTO:+0100
TZNAME:CET
DTSTART:20211031T010000
END:STANDARD
BEGIN:DAYLIGHT
TZOFFSETFROM:+0100
TZOFFSETTO:+0200
TZNAME:CEST
DTSTART:20220327T010000
END:DAYLIGHT
BEGIN:STANDARD
TZOFFSETFROM:+0200
TZOFFSETTO:+0100
TZNAME:CET
DTSTART:20221030T010000
END:STANDARD
BEGIN:DAYLIGHT
TZOFFSETFROM:+0100
TZOFFSETTO:+0200
TZNAME:CEST
DTSTART:20230326T010000
END:DAYLIGHT
BEGIN:STANDARD
TZOFFSETFROM:+0200
TZOFFSETTO:+0100
TZNAME:CET
DTSTART:20231029T010000
END:STANDARD
BEGIN:DAYLIGHT
TZOFFSETFROM:+0100
TZOFFSETTO:+0200
TZNAME:CEST
DTSTART:20240331T010000
END:DAYLIGHT
BEGIN:STANDARD
TZOFFSETFROM:+0200
TZOFFSETTO:+0100
TZNAME:CET
DTSTART:20241027T010000
END:STANDARD
BEGIN:DAYLIGHT
TZOFFSETFROM:+0100
TZOFFSETTO:+0200
TZNAME:CEST
DTSTART:20250330T010000
END:DAYLIGHT
BEGIN:STANDARD
TZOFFSETFROM:+0200
TZOFFSETTO:+0100
TZNAME:CET
DTSTART:20251026T010000
END:STANDARD
BEGIN:DAYLIGHT
TZOFFSETFROM:+0100
TZOFFSETTO:+0200
TZNAME:CEST
DTSTART:20260329T010000
END:DAYLIGHT
BEGIN:STANDARD
TZOFFSETFROM:+0200
TZOFFSETTO:+0100
TZNAME:CET
DTSTART:20261025T010000
END:STANDARD
END:VTIMEZONE
BEGIN:VEVENT
DTSTART;TZID=Europe/Paris:20250111T150000
DTEND;TZID=Europe/Paris:20250111T170000
DTSTAMP:20260420T070409
CREATED:20210930T100550Z
LAST-MODIFIED:20250104T155320Z
UID:26543-1736607600-1736614800@brignoles-basket-ball.fr
SUMMARY:MATCH DMU17
DESCRIPTION:  \n    \n  \nUnion Sportive Pradet Basket  vs Brignoles Basket Ball – 1
URL:https://brignoles-basket-ball.fr/evenement/copy-of-match-dmu17-23/
LOCATION:GYMNASE GERARD SEBASTIA\, La Batie CD 86\, LE PRADET\, 83220\, France
CATEGORIES:Match
ATTACH;FMTTYPE=image/png:https://brignoles-basket-ball.fr/wp-content/uploads/2021/09/M-D17-V1.png
END:VEVENT
BEGIN:VEVENT
DTSTART;TZID=Europe/Paris:20241222T110000
DTEND;TZID=Europe/Paris:20241222T130000
DTSTAMP:20260420T070409
CREATED:20210930T100550Z
LAST-MODIFIED:20241215T135313Z
UID:25672-1734865200-1734872400@brignoles-basket-ball.fr
SUMMARY:MATCH DMU17
DESCRIPTION:  \n    \n  \nBrignoles Basket Ball – 1 vs  Basket Club La Garde
URL:https://brignoles-basket-ball.fr/evenement/copy-of-match-dmu17-22/
LOCATION:COMPLEXE SPORTIF JEAN JACQUES MARCEL\, 5 Bd Just Marie Raynouard\, Brignoles\, 83170
CATEGORIES:Match
ATTACH;FMTTYPE=image/png:https://brignoles-basket-ball.fr/wp-content/uploads/2021/09/M-D17-V1.png
END:VEVENT
BEGIN:VEVENT
DTSTART;TZID=Europe/Paris:20241215T110000
DTEND;TZID=Europe/Paris:20241215T130000
DTSTAMP:20260420T070409
CREATED:20210930T100550Z
LAST-MODIFIED:20241213T164724Z
UID:25659-1734260400-1734267600@brignoles-basket-ball.fr
SUMMARY:MATCH DMU17
DESCRIPTION:  \n    \n  \nBrignoles Basket Ball – 1 vs     Athlétic Sporting Arcois – 1
URL:https://brignoles-basket-ball.fr/evenement/copy-of-match-dmu17-21/
LOCATION:COMPLEXE SPORTIF JEAN JACQUES MARCEL\, 5 Bd Just Marie Raynouard\, Brignoles\, 83170
CATEGORIES:Match
ATTACH;FMTTYPE=image/png:https://brignoles-basket-ball.fr/wp-content/uploads/2021/09/M-D17-V1.png
END:VEVENT
BEGIN:VEVENT
DTSTART;TZID=Europe/Paris:20241208T130000
DTEND;TZID=Europe/Paris:20241208T150000
DTSTAMP:20260420T070409
CREATED:20210930T100550Z
LAST-MODIFIED:20241201T223627Z
UID:25614-1733662800-1733670000@brignoles-basket-ball.fr
SUMMARY:MATCH DMU17
DESCRIPTION:  \n    \n  \nBrignoles Basket Ball – 1 vs     Hyères Toulon Var Basket – 2
URL:https://brignoles-basket-ball.fr/evenement/copy-of-match-dmu17-20/
LOCATION:SALLE RAYNOUARD\,  Avenue des Martyrs de la Résistance\, BRIGNOLES\, VAR\, 83170\, France
CATEGORIES:Match
ATTACH;FMTTYPE=image/png:https://brignoles-basket-ball.fr/wp-content/uploads/2021/09/M-D17-V1.png
END:VEVENT
BEGIN:VEVENT
DTSTART;TZID=Europe/Paris:20241130T170000
DTEND;TZID=Europe/Paris:20241130T190000
DTSTAMP:20260420T070409
CREATED:20210930T100550Z
LAST-MODIFIED:20241124T135118Z
UID:25558-1732986000-1732993200@brignoles-basket-ball.fr
SUMMARY:MATCH DMU17
DESCRIPTION:  \n    \n  \nESCA Londaise        vs           Brignoles Basket Ball – 1
URL:https://brignoles-basket-ball.fr/evenement/copy-of-match-dmu17-19/
LOCATION:SALLE HORTENSE POLI\, Rue de Port-Cros\, LA LONDE-LES-MAURES\, VAR\, 83250\, France
CATEGORIES:Match
ATTACH;FMTTYPE=image/png:https://brignoles-basket-ball.fr/wp-content/uploads/2021/09/M-D17-V1.png
END:VEVENT
BEGIN:VEVENT
DTSTART;TZID=Europe/Paris:20241117T140000
DTEND;TZID=Europe/Paris:20241117T160000
DTSTAMP:20260420T070409
CREATED:20210930T100550Z
LAST-MODIFIED:20241027T202834Z
UID:25292-1731852000-1731859200@brignoles-basket-ball.fr
SUMMARY:MATCH DMU17
DESCRIPTION:  \n    \n  \nBrignoles Basket Ball – 1 vs Saint Cyr Basket Club
URL:https://brignoles-basket-ball.fr/evenement/copy-of-match-dmu17-17/
LOCATION:SALLE RAYNOUARD\,  Avenue des Martyrs de la Résistance\, BRIGNOLES\, VAR\, 83170\, France
CATEGORIES:Match
ATTACH;FMTTYPE=image/png:https://brignoles-basket-ball.fr/wp-content/uploads/2021/09/M-D17-V1.png
END:VEVENT
BEGIN:VEVENT
DTSTART;TZID=Europe/Paris:20241110T130000
DTEND;TZID=Europe/Paris:20241110T150000
DTSTAMP:20260420T070409
CREATED:20210930T100550Z
LAST-MODIFIED:20241024T182354Z
UID:25263-1731243600-1731250800@brignoles-basket-ball.fr
SUMMARY:MATCH DMU17
DESCRIPTION:  \n    \n  \nBrignoles Basket Ball – 1 vs ASPTT Toulon
URL:https://brignoles-basket-ball.fr/evenement/copy-of-match-dmu17-18/
LOCATION:SALLE RAYNOUARD\,  Avenue des Martyrs de la Résistance\, BRIGNOLES\, VAR\, 83170\, France
CATEGORIES:Match
ATTACH;FMTTYPE=image/png:https://brignoles-basket-ball.fr/wp-content/uploads/2021/09/M-D17-V1.png
END:VEVENT
BEGIN:VEVENT
DTSTART;TZID=Europe/Paris:20241006T090000
DTEND;TZID=Europe/Paris:20241006T110000
DTSTAMP:20260420T070409
CREATED:20210930T100550Z
LAST-MODIFIED:20240929T212644Z
UID:24909-1728205200-1728212400@brignoles-basket-ball.fr
SUMMARY:MATCH DMU17
DESCRIPTION:  \n    \n  \nBrignoles Basket Ball              vs           Hyères Toulon Var Basket – 1      
URL:https://brignoles-basket-ball.fr/evenement/copy-of-match-dmu17-16/
LOCATION:COMPLEXE SPORTIF JEAN JACQUES MARCEL\, 5 Bd Just Marie Raynouard\, Brignoles\, 83170
CATEGORIES:Match
ATTACH;FMTTYPE=image/png:https://brignoles-basket-ball.fr/wp-content/uploads/2021/09/M-D17-V1.png
END:VEVENT
BEGIN:VEVENT
DTSTART;TZID=Europe/Paris:20240929T110000
DTEND;TZID=Europe/Paris:20240929T130000
DTSTAMP:20260420T070409
CREATED:20210930T100550Z
LAST-MODIFIED:20240922T204644Z
UID:24812-1727607600-1727614800@brignoles-basket-ball.fr
SUMMARY:MATCH DMU17
DESCRIPTION:  \n    \n  \nSanary Basket Club vs Brignoles Basket Ball 
URL:https://brignoles-basket-ball.fr/evenement/copy-of-match-dmu17-2-48/
LOCATION:GYMNASE JEAN BRUNEL\, 194 Av du 2 ème SPAHIS\, SANARY-SUR-MER\, VAR\, 83110\, France
CATEGORIES:Match
ATTACH;FMTTYPE=image/png:https://brignoles-basket-ball.fr/wp-content/uploads/2021/09/M-D17-V1.png
END:VEVENT
BEGIN:VEVENT
DTSTART;TZID=Europe/Paris:20220522T110000
DTEND;TZID=Europe/Paris:20220522T130000
DTSTAMP:20260420T070409
CREATED:20210930T100550Z
LAST-MODIFIED:20220516T124746Z
UID:12026-1653217200-1653224400@brignoles-basket-ball.fr
SUMMARY:MATCH DMU17
DESCRIPTION:Fréjus Var Basket AMSL vs Brignoles Basket Ball – 1 \n 
URL:https://brignoles-basket-ball.fr/evenement/copy-of-match-dmu17-15/
LOCATION:HALL DES SPORTS LES CHENES\, Frejus Var Basket\, FREJUS\, VAR\, 83370\, France
CATEGORIES:Match
ATTACH;FMTTYPE=image/png:https://brignoles-basket-ball.fr/wp-content/uploads/2021/09/M-D17-V1.png
END:VEVENT
BEGIN:VEVENT
DTSTART;TZID=Europe/Paris:20220506T200000
DTEND;TZID=Europe/Paris:20220506T220000
DTSTAMP:20260420T070409
CREATED:20210930T100550Z
LAST-MODIFIED:20220502T122837Z
UID:11727-1651867200-1651874400@brignoles-basket-ball.fr
SUMMARY:MATCH DMU17
DESCRIPTION:Brignoles Basket Ball – 1 vs ESCA Londaise \n 
URL:https://brignoles-basket-ball.fr/evenement/copy-of-match-dmu17-14/
LOCATION:COMPLEXE SPORTIF JEAN JACQUES MARCEL\, 5 Bd Just Marie Raynouard\, Brignoles\, 83170
CATEGORIES:Match
ATTACH;FMTTYPE=image/png:https://brignoles-basket-ball.fr/wp-content/uploads/2021/09/M-D17-V1.png
END:VEVENT
BEGIN:VEVENT
DTSTART;TZID=Europe/Paris:20220501T110000
DTEND;TZID=Europe/Paris:20220501T130000
DTSTAMP:20260420T070409
CREATED:20210930T100550Z
LAST-MODIFIED:20220416T210404Z
UID:11372-1651402800-1651410000@brignoles-basket-ball.fr
SUMMARY:MATCH DMU17
DESCRIPTION:Athlétic Sporting Arcois vs Brignoles Basket Ball – 1 \n 
URL:https://brignoles-basket-ball.fr/evenement/copy-of-match-dmu17-13/
LOCATION:SALLE POLYVALENTE OMNISPORT\, AVENUE DE LA GARE\, LES ARCS\, VAR\, 83460\, France
CATEGORIES:Match
ATTACH;FMTTYPE=image/png:https://brignoles-basket-ball.fr/wp-content/uploads/2021/09/M-D17-V1.png
END:VEVENT
BEGIN:VEVENT
DTSTART;TZID=Europe/Paris:20220424T100000
DTEND;TZID=Europe/Paris:20220424T120000
DTSTAMP:20260420T070409
CREATED:20210930T100550Z
LAST-MODIFIED:20220416T202656Z
UID:11367-1650794400-1650801600@brignoles-basket-ball.fr
SUMMARY:MATCH DMU17
DESCRIPTION:Athlétic Basket Club – Baume Saint-Maximin     vs Brignoles Basket Ball – 1 \n 
URL:https://brignoles-basket-ball.fr/evenement/copy-of-match-dmu17-12/
LOCATION:COSEC Henri MATISSE\, route de Brignoles\, SAINT-MAXIMIN-LA-SAINTE-BAUME\, VAR\, 83470\, France
CATEGORIES:Match
ATTACH;FMTTYPE=image/png:https://brignoles-basket-ball.fr/wp-content/uploads/2021/09/M-D17-V1.png
END:VEVENT
BEGIN:VEVENT
DTSTART;TZID=Europe/Paris:20220403T100000
DTEND;TZID=Europe/Paris:20220403T120000
DTSTAMP:20260420T070409
CREATED:20210930T100550Z
LAST-MODIFIED:20220327T220215Z
UID:10953-1648980000-1648987200@brignoles-basket-ball.fr
SUMMARY:MATCH DMU17
DESCRIPTION:Basket Club Grimaud Ste Maxime vs Brignoles Basket Ball – 1 \n 
URL:https://brignoles-basket-ball.fr/evenement/copy-of-match-dmu17-11/
LOCATION:GYMNASE DES BLAQUIERES\, Chemin des Blaquières\, GRIMAUD\, VAR\, 83310\, France
CATEGORIES:Match
ATTACH;FMTTYPE=image/png:https://brignoles-basket-ball.fr/wp-content/uploads/2021/09/M-D17-V1.png
END:VEVENT
BEGIN:VEVENT
DTSTART;TZID=Europe/Paris:20220327T120000
DTEND;TZID=Europe/Paris:20220327T140000
DTSTAMP:20260420T070409
CREATED:20210930T100550Z
LAST-MODIFIED:20220320T165536Z
UID:10627-1648382400-1648389600@brignoles-basket-ball.fr
SUMMARY:MATCH DMU17
DESCRIPTION:Brignoles Basket Ball – 1   vs    ENT  ST Cyr – Bandol \n 
URL:https://brignoles-basket-ball.fr/evenement/copy-of-match-dmu17-10/
LOCATION:COMPLEXE SPORTIF JEAN JACQUES MARCEL\, 5 Bd Just Marie Raynouard\, Brignoles\, 83170
CATEGORIES:Match
ATTACH;FMTTYPE=image/png:https://brignoles-basket-ball.fr/wp-content/uploads/2021/09/M-D17-V1.png
END:VEVENT
BEGIN:VEVENT
DTSTART;TZID=Europe/Paris:20220320T110000
DTEND;TZID=Europe/Paris:20220320T130000
DTSTAMP:20260420T070409
CREATED:20210930T100550Z
LAST-MODIFIED:20220314T221922Z
UID:10278-1647774000-1647781200@brignoles-basket-ball.fr
SUMMARY:MATCH DMU17
DESCRIPTION:Ca Roquebrune Sur Argens   vs   Brignoles Basket Ball – 1 \n 
URL:https://brignoles-basket-ball.fr/evenement/copy-of-match-dmu17-9/
LOCATION:SALLE MAURICE CALANDRI\, Boulevard Kennedy\, ROQUEBRUNE-SUR-ARGENS\, VAR\, 83520\, France
CATEGORIES:Match
ATTACH;FMTTYPE=image/png:https://brignoles-basket-ball.fr/wp-content/uploads/2021/09/M-D17-V1.png
END:VEVENT
BEGIN:VEVENT
DTSTART;TZID=Europe/Paris:20220313T120000
DTEND;TZID=Europe/Paris:20220313T140000
DTSTAMP:20260420T070409
CREATED:20210930T100550Z
LAST-MODIFIED:20220306T155040Z
UID:10234-1647172800-1647180000@brignoles-basket-ball.fr
SUMMARY:MATCH DMU17
DESCRIPTION:Brignoles Basket Ball – 1   vs    Club Sportif Cavalairois \n 
URL:https://brignoles-basket-ball.fr/evenement/copy-of-match-dmu17-8/
LOCATION:COMPLEXE SPORTIF JEAN JACQUES MARCEL\, 5 Bd Just Marie Raynouard\, Brignoles\, 83170
CATEGORIES:Match
ATTACH;FMTTYPE=image/png:https://brignoles-basket-ball.fr/wp-content/uploads/2021/09/M-D17-V1.png
END:VEVENT
BEGIN:VEVENT
DTSTART;TZID=Europe/Paris:20220306T104500
DTEND;TZID=Europe/Paris:20220306T124500
DTSTAMP:20260420T070409
CREATED:20210930T100550Z
LAST-MODIFIED:20220304T231634Z
UID:10015-1646563500-1646570700@brignoles-basket-ball.fr
SUMMARY:MATCH DMU17
DESCRIPTION:Basket Club Sollies Farlede       vs          Brignoles Basket Ball – 1 \n 
URL:https://brignoles-basket-ball.fr/evenement/copy-of-match-dmu17-7/
LOCATION:GYMNASE VALLEE DU GAPEAU\, Quartier les Ferrages\, SOLLIES-PONT\, VAR\, 83210\, France
CATEGORIES:Match
ATTACH;FMTTYPE=image/png:https://brignoles-basket-ball.fr/wp-content/uploads/2021/09/M-D17-V1.png
END:VEVENT
BEGIN:VEVENT
DTSTART;TZID=Europe/Paris:20220227T120000
DTEND;TZID=Europe/Paris:20220227T140000
DTSTAMP:20260420T070409
CREATED:20210930T100550Z
LAST-MODIFIED:20220212T111218Z
UID:9795-1645963200-1645970400@brignoles-basket-ball.fr
SUMMARY:MATCH DMU17
DESCRIPTION:Brignoles Basket Ball – 1        vs           Basket Club La Garde – 1 \n 
URL:https://brignoles-basket-ball.fr/evenement/copy-of-match-dmu17-6/
LOCATION:SALLE RAYNOUARD\,  Avenue des Martyrs de la Résistance\, BRIGNOLES\, VAR\, 83170\, France
CATEGORIES:Match
ATTACH;FMTTYPE=image/png:https://brignoles-basket-ball.fr/wp-content/uploads/2021/09/M-D17-V1.png
END:VEVENT
BEGIN:VEVENT
DTSTART;TZID=Europe/Paris:20220130T120000
DTEND;TZID=Europe/Paris:20220130T140000
DTSTAMP:20260420T070409
CREATED:20210930T100550Z
LAST-MODIFIED:20220123T200839Z
UID:9707-1643544000-1643551200@brignoles-basket-ball.fr
SUMMARY:MATCH DMU17
DESCRIPTION:Brignoles Basket Ball – 1   vs  Fréjus Var Basket AMSL \n 
URL:https://brignoles-basket-ball.fr/evenement/copy-of-match-dmu17-5/
LOCATION:SALLE RAYNOUARD\,  Avenue des Martyrs de la Résistance\, BRIGNOLES\, VAR\, 83170\, France
CATEGORIES:Match
ATTACH;FMTTYPE=image/png:https://brignoles-basket-ball.fr/wp-content/uploads/2021/09/M-D17-V1.png
END:VEVENT
BEGIN:VEVENT
DTSTART;TZID=Europe/Paris:20220116T090000
DTEND;TZID=Europe/Paris:20220116T110000
DTSTAMP:20260420T070409
CREATED:20210930T100550Z
LAST-MODIFIED:20211213T143022Z
UID:9072-1642323600-1642330800@brignoles-basket-ball.fr
SUMMARY:MATCH DMU17
DESCRIPTION:ESCA LONDAISE VS BRIGNOLES BASKET BALL – 1  \n 
URL:https://brignoles-basket-ball.fr/evenement/copy-of-match-dmu17-4/
LOCATION:SALLE HORTENSE POLI\, Rue de Port-Cros\, LA LONDE-LES-MAURES\, VAR\, 83250\, France
CATEGORIES:Match
ATTACH;FMTTYPE=image/png:https://brignoles-basket-ball.fr/wp-content/uploads/2021/09/M-D17-V1.png
END:VEVENT
BEGIN:VEVENT
DTSTART;TZID=Europe/Paris:20220109T120000
DTEND;TZID=Europe/Paris:20220109T140000
DTSTAMP:20260420T070409
CREATED:20210930T100550Z
LAST-MODIFIED:20220101T135207Z
UID:9059-1641729600-1641736800@brignoles-basket-ball.fr
SUMMARY:MATCH DMU17
DESCRIPTION:BRIGNOLES BASKET BALL – 1 VS ATHLETIC SPORTING ARCOIS \n 
URL:https://brignoles-basket-ball.fr/evenement/match-dmu17/
LOCATION:SALLE RAYNOUARD\,  Avenue des Martyrs de la Résistance\, BRIGNOLES\, VAR\, 83170\, France
CATEGORIES:Match
ATTACH;FMTTYPE=image/png:https://brignoles-basket-ball.fr/wp-content/uploads/2021/09/M-D17-V1.png
END:VEVENT
BEGIN:VEVENT
DTSTART;TZID=Europe/Paris:20211212T120000
DTEND;TZID=Europe/Paris:20211212T140000
DTSTAMP:20260420T070409
CREATED:20210930T100550Z
LAST-MODIFIED:20211205T155620Z
UID:8498-1639310400-1639317600@brignoles-basket-ball.fr
SUMMARY:MATCH DMU17
DESCRIPTION:BRIGNOLES BASKET BALL – 1 VS ATHLETIC BASKET CLUB – BAUME SAINT-MAXIMIN \n 
URL:https://brignoles-basket-ball.fr/evenement/copy-of-match-dmu17-3/
LOCATION:SALLE RAYNOUARD\,  Avenue des Martyrs de la Résistance\, BRIGNOLES\, VAR\, 83170\, France
CATEGORIES:Match
ATTACH;FMTTYPE=image/png:https://brignoles-basket-ball.fr/wp-content/uploads/2021/09/M-D17-V1.png
END:VEVENT
BEGIN:VEVENT
DTSTART;TZID=Europe/Paris:20211205T120000
DTEND;TZID=Europe/Paris:20211205T140000
DTSTAMP:20260420T070409
CREATED:20210930T100550Z
LAST-MODIFIED:20211128T162103Z
UID:8121-1638705600-1638712800@brignoles-basket-ball.fr
SUMMARY:MATCH DMU17
DESCRIPTION:BRIGNOLES BASKET BALL – 1 VS BASKET CLUB GRIMAUD STE MAXIME \n 
URL:https://brignoles-basket-ball.fr/evenement/copy-of-match-dmu17/
LOCATION:SALLE RAYNOUARD\,  Avenue des Martyrs de la Résistance\, BRIGNOLES\, VAR\, 83170\, France
CATEGORIES:Match
ATTACH;FMTTYPE=image/png:https://brignoles-basket-ball.fr/wp-content/uploads/2021/09/M-D17-V1.png
END:VEVENT
BEGIN:VEVENT
DTSTART;TZID=Europe/Paris:20211121T110000
DTEND;TZID=Europe/Paris:20211121T130000
DTSTAMP:20260420T070409
CREATED:20210930T100550Z
LAST-MODIFIED:20211114T163718Z
UID:6442-1637492400-1637499600@brignoles-basket-ball.fr
SUMMARY:MATCH DMU17
DESCRIPTION:ENTENTE ST CYR – BANDOL VS BRIGNOLES BASKET BALL – 1
URL:https://brignoles-basket-ball.fr/evenement/__trashed-108/
LOCATION:SALLE OMNISPORTS LES OLIVIERS\, Chemin du Sauvet\, Saint-Cyr-sur-Mer\, 83270\, France
CATEGORIES:Match
ATTACH;FMTTYPE=image/png:https://brignoles-basket-ball.fr/wp-content/uploads/2021/09/M-D17-V1.png
END:VEVENT
BEGIN:VEVENT
DTSTART;TZID=Europe/Paris:20211114T120000
DTEND;TZID=Europe/Paris:20211114T140000
DTSTAMP:20260420T070409
CREATED:20210930T100548Z
LAST-MODIFIED:20211107T134351Z
UID:6434-1636891200-1636898400@brignoles-basket-ball.fr
SUMMARY:MATCH DMU17
DESCRIPTION:BRIGNOLES BASKET BALL – 1 VS CA ROQUEBRUNE SUR ARGENS
URL:https://brignoles-basket-ball.fr/evenement/__trashed-100/
LOCATION:GYMNASE DU COLLEGE JEAN MOULIN\, 648 R. de la Viguière\, 83170 Brignoles\, BRIGNOLES\, 83170
CATEGORIES:Match
ATTACH;FMTTYPE=image/png:https://brignoles-basket-ball.fr/wp-content/uploads/2021/09/M-D17-V1.png
END:VEVENT
END:VCALENDAR