BEGIN:VCALENDAR
VERSION:2.0
PRODID:-//Brignoles Basket-Ball - ECPv6.15.20//NONSGML v1.0//EN
CALSCALE:GREGORIAN
METHOD:PUBLISH
X-WR-CALNAME:Brignoles Basket-Ball
X-ORIGINAL-URL:https://brignoles-basket-ball.fr
X-WR-CALDESC:Évènements pour Brignoles Basket-Ball
REFRESH-INTERVAL;VALUE=DURATION:PT1H
X-Robots-Tag:noindex
X-PUBLISHED-TTL:PT1H
BEGIN:VTIMEZONE
TZID:Europe/Paris
BEGIN:DAYLIGHT
TZOFFSETFROM:+0100
TZOFFSETTO:+0200
TZNAME:CEST
DTSTART:20240331T010000
END:DAYLIGHT
BEGIN:STANDARD
TZOFFSETFROM:+0200
TZOFFSETTO:+0100
TZNAME:CET
DTSTART:20241027T010000
END:STANDARD
BEGIN:DAYLIGHT
TZOFFSETFROM:+0100
TZOFFSETTO:+0200
TZNAME:CEST
DTSTART:20250330T010000
END:DAYLIGHT
BEGIN:STANDARD
TZOFFSETFROM:+0200
TZOFFSETTO:+0100
TZNAME:CET
DTSTART:20251026T010000
END:STANDARD
BEGIN:DAYLIGHT
TZOFFSETFROM:+0100
TZOFFSETTO:+0200
TZNAME:CEST
DTSTART:20260329T010000
END:DAYLIGHT
BEGIN:STANDARD
TZOFFSETFROM:+0200
TZOFFSETTO:+0100
TZNAME:CET
DTSTART:20261025T010000
END:STANDARD
END:VTIMEZONE
BEGIN:VEVENT
DTSTART;TZID=Europe/Paris:20250501T180000
DTEND;TZID=Europe/Paris:20250501T200000
DTSTAMP:20260420T231832
CREATED:20210930T100550Z
LAST-MODIFIED:20250428T225339Z
UID:28925-1746122400-1746129600@brignoles-basket-ball.fr
SUMMARY:MATCH DMU17
DESCRIPTION:  \n    \n  \nAthlétic Sporting Arcois – 1         vs           Brignoles Basket Ball        
URL:https://brignoles-basket-ball.fr/evenement/copy-of-match-dmu17-31/
LOCATION:SALLE POLYVALENTE OMNISPORT\, AVENUE DE LA GARE\, LES ARCS\, VAR\, 83460\, France
CATEGORIES:Match
ATTACH;FMTTYPE=image/png:https://brignoles-basket-ball.fr/wp-content/uploads/2021/09/M-D17-V1.png
END:VEVENT
BEGIN:VEVENT
DTSTART;TZID=Europe/Paris:20250504T110000
DTEND;TZID=Europe/Paris:20250504T130000
DTSTAMP:20260420T231832
CREATED:20210930T100550Z
LAST-MODIFIED:20250429T224833Z
UID:28942-1746356400-1746363600@brignoles-basket-ball.fr
SUMMARY:MATCH DMU17
DESCRIPTION:  \n    \n  \nBasket Club La Garde   vs     Brignoles Basket Ball       \n      
URL:https://brignoles-basket-ball.fr/evenement/copy-of-match-dmu17-32/
LOCATION:COSEC GUY MOQUET\, 891 Chemin de la Planquette\, LA GARDE\, VAR\, 83130\, France
CATEGORIES:Match
ATTACH;FMTTYPE=image/png:https://brignoles-basket-ball.fr/wp-content/uploads/2021/09/M-D17-V1.png
END:VEVENT
BEGIN:VEVENT
DTSTART;TZID=Europe/Paris:20250514T193000
DTEND;TZID=Europe/Paris:20250514T213000
DTSTAMP:20260420T231832
CREATED:20210930T100550Z
LAST-MODIFIED:20250510T181919Z
UID:29150-1747251000-1747258200@brignoles-basket-ball.fr
SUMMARY:MATCH DMU17-2
DESCRIPTION:  \n    \n  \nSix Fours Basket Club vs Brignoles Basket Ball – 2     \n      
URL:https://brignoles-basket-ball.fr/evenement/copy-of-match-dmu17-33/
LOCATION:PALAIS DES SPORTS La Coudoulière\, Rue Curet Bas\, SIX-FOURS-LES-PLAGES\, VAR\, 83140\, France
CATEGORIES:Match
ATTACH;FMTTYPE=image/png:https://brignoles-basket-ball.fr/wp-content/uploads/2021/09/M-D17-V1.png
END:VEVENT
BEGIN:VEVENT
DTSTART;TZID=Europe/Paris:20250518T110000
DTEND;TZID=Europe/Paris:20250518T130000
DTSTAMP:20260420T231832
CREATED:20210930T100550Z
LAST-MODIFIED:20250510T182935Z
UID:29163-1747566000-1747573200@brignoles-basket-ball.fr
SUMMARY:MATCH DMU17
DESCRIPTION:  \n    \n  \nBrignoles Basket Ball vs Union Sportive Pradet Basket     \n      
URL:https://brignoles-basket-ball.fr/evenement/copy-of-match-dmu17-34/
LOCATION:COMPLEXE SPORTIF JEAN JACQUES MARCEL\, 5 Bd Just Marie Raynouard\, Brignoles\, 83170
CATEGORIES:Match
ATTACH;FMTTYPE=image/png:https://brignoles-basket-ball.fr/wp-content/uploads/2021/09/M-D17-V1.png
END:VEVENT
BEGIN:VEVENT
DTSTART;TZID=Europe/Paris:20250525T110000
DTEND;TZID=Europe/Paris:20250525T130000
DTSTAMP:20260420T231832
CREATED:20210930T100550Z
LAST-MODIFIED:20250518T170657Z
UID:29203-1748170800-1748178000@brignoles-basket-ball.fr
SUMMARY:MATCH DMU17
DESCRIPTION:  \n    \n  \nBrignoles Basket Ball vs Club Sportif Cavalairois  \n      
URL:https://brignoles-basket-ball.fr/evenement/copy-of-match-dmu17-35/
LOCATION:SALLE RAYNOUARD\,  Avenue des Martyrs de la Résistance\, BRIGNOLES\, VAR\, 83170\, France
CATEGORIES:Match
ATTACH;FMTTYPE=image/png:https://brignoles-basket-ball.fr/wp-content/uploads/2021/09/M-D17-V1.png
END:VEVENT
END:VCALENDAR