BEGIN:VCALENDAR
VERSION:2.0
PRODID:-//Brignoles Basket-Ball - ECPv6.15.20//NONSGML v1.0//EN
CALSCALE:GREGORIAN
METHOD:PUBLISH
X-ORIGINAL-URL:https://brignoles-basket-ball.fr
X-WR-CALDESC:Évènements pour Brignoles Basket-Ball
REFRESH-INTERVAL;VALUE=DURATION:PT1H
X-Robots-Tag:noindex
X-PUBLISHED-TTL:PT1H
BEGIN:VTIMEZONE
TZID:Europe/Paris
BEGIN:DAYLIGHT
TZOFFSETFROM:+0100
TZOFFSETTO:+0200
TZNAME:CEST
DTSTART:20240331T010000
END:DAYLIGHT
BEGIN:STANDARD
TZOFFSETFROM:+0200
TZOFFSETTO:+0100
TZNAME:CET
DTSTART:20241027T010000
END:STANDARD
BEGIN:DAYLIGHT
TZOFFSETFROM:+0100
TZOFFSETTO:+0200
TZNAME:CEST
DTSTART:20250330T010000
END:DAYLIGHT
BEGIN:STANDARD
TZOFFSETFROM:+0200
TZOFFSETTO:+0100
TZNAME:CET
DTSTART:20251026T010000
END:STANDARD
BEGIN:DAYLIGHT
TZOFFSETFROM:+0100
TZOFFSETTO:+0200
TZNAME:CEST
DTSTART:20260329T010000
END:DAYLIGHT
BEGIN:STANDARD
TZOFFSETFROM:+0200
TZOFFSETTO:+0100
TZNAME:CET
DTSTART:20261025T010000
END:STANDARD
END:VTIMEZONE
BEGIN:VEVENT
DTSTART;TZID=Europe/Paris:20250111T150000
DTEND;TZID=Europe/Paris:20250111T170000
DTSTAMP:20260421T065513
CREATED:20210930T100550Z
LAST-MODIFIED:20250104T155320Z
UID:26543-1736607600-1736614800@brignoles-basket-ball.fr
SUMMARY:MATCH DMU17
DESCRIPTION:  \n    \n  \nUnion Sportive Pradet Basket  vs Brignoles Basket Ball – 1
URL:https://brignoles-basket-ball.fr/evenement/copy-of-match-dmu17-23/
LOCATION:GYMNASE GERARD SEBASTIA\, La Batie CD 86\, LE PRADET\, 83220\, France
CATEGORIES:Match
ATTACH;FMTTYPE=image/png:https://brignoles-basket-ball.fr/wp-content/uploads/2021/09/M-D17-V1.png
END:VEVENT
BEGIN:VEVENT
DTSTART;TZID=Europe/Paris:20250119T120000
DTEND;TZID=Europe/Paris:20250119T140000
DTSTAMP:20260421T065514
CREATED:20210930T100550Z
LAST-MODIFIED:20250112T172506Z
UID:26585-1737288000-1737295200@brignoles-basket-ball.fr
SUMMARY:MATCH DMU17
DESCRIPTION:  \n    \n  \nClub Sportif Cavalairois  vs  Brignoles Basket Ball – 1
URL:https://brignoles-basket-ball.fr/evenement/copy-of-match-dmu17-24/
LOCATION:COMPLEXE HENRI GROS (SALLE 1)\, AVENUE Pierre ET Marie CURIE\, CAVALAIRE-SUR-MER\, VAR\, 83240\, France
CATEGORIES:Match
ATTACH;FMTTYPE=image/png:https://brignoles-basket-ball.fr/wp-content/uploads/2021/09/M-D17-V1.png
END:VEVENT
END:VCALENDAR