BEGIN:VCALENDAR
VERSION:2.0
PRODID:-//Brignoles Basket-Ball - ECPv6.15.20//NONSGML v1.0//EN
CALSCALE:GREGORIAN
METHOD:PUBLISH
X-ORIGINAL-URL:https://brignoles-basket-ball.fr
X-WR-CALDESC:Évènements pour Brignoles Basket-Ball
REFRESH-INTERVAL;VALUE=DURATION:PT1H
X-Robots-Tag:noindex
X-PUBLISHED-TTL:PT1H
BEGIN:VTIMEZONE
TZID:Europe/Paris
BEGIN:DAYLIGHT
TZOFFSETFROM:+0100
TZOFFSETTO:+0200
TZNAME:CEST
DTSTART:20200329T010000
END:DAYLIGHT
BEGIN:STANDARD
TZOFFSETFROM:+0200
TZOFFSETTO:+0100
TZNAME:CET
DTSTART:20201025T010000
END:STANDARD
BEGIN:DAYLIGHT
TZOFFSETFROM:+0100
TZOFFSETTO:+0200
TZNAME:CEST
DTSTART:20210328T010000
END:DAYLIGHT
BEGIN:STANDARD
TZOFFSETFROM:+0200
TZOFFSETTO:+0100
TZNAME:CET
DTSTART:20211031T010000
END:STANDARD
BEGIN:DAYLIGHT
TZOFFSETFROM:+0100
TZOFFSETTO:+0200
TZNAME:CEST
DTSTART:20220327T010000
END:DAYLIGHT
BEGIN:STANDARD
TZOFFSETFROM:+0200
TZOFFSETTO:+0100
TZNAME:CET
DTSTART:20221030T010000
END:STANDARD
END:VTIMEZONE
BEGIN:VEVENT
DTSTART;TZID=Europe/Paris:20211120T143000
DTEND;TZID=Europe/Paris:20211120T163000
DTSTAMP:20260420T014813
CREATED:20210930T100550Z
LAST-MODIFIED:20211114T162959Z
UID:6441-1637418600-1637425800@brignoles-basket-ball.fr
SUMMARY:MATCH DMU15-2
DESCRIPTION:CLUB SPORTIF CAVALAIROIS VS BRIGNOLES BASKET BALL
URL:https://brignoles-basket-ball.fr/evenement/__trashed-107/
LOCATION:COMPLEXE HENRI GROS (SALLE 1)\, AVENUE Pierre ET Marie CURIE\, CAVALAIRE-SUR-MER\, VAR\, 83240\, France
CATEGORIES:Match
ATTACH;FMTTYPE=image/png:https://brignoles-basket-ball.fr/wp-content/uploads/2021/09/M-D15-V1.png
END:VEVENT
BEGIN:VEVENT
DTSTART;TZID=Europe/Paris:20211113T150000
DTEND;TZID=Europe/Paris:20211113T170000
DTSTAMP:20260420T014813
CREATED:20210930T100547Z
LAST-MODIFIED:20211107T134039Z
UID:6431-1636815600-1636822800@brignoles-basket-ball.fr
SUMMARY:MATCH DMU15-2
DESCRIPTION:BRIGNOLES BASKET BALL VS ATHLETIC SPORTING ARCOIS – 2
URL:https://brignoles-basket-ball.fr/evenement/__trashed-97/
LOCATION:GYMNASE DU COLLEGE JEAN MOULIN\, 648 R. de la Viguière\, 83170 Brignoles\, BRIGNOLES\, 83170
CATEGORIES:Match
ATTACH;FMTTYPE=image/png:https://brignoles-basket-ball.fr/wp-content/uploads/2021/09/M-D15-V1.png
END:VEVENT
END:VCALENDAR