BEGIN:VCALENDAR
VERSION:2.0
PRODID:-//Brignoles Basket-Ball - ECPv6.15.20//NONSGML v1.0//EN
CALSCALE:GREGORIAN
METHOD:PUBLISH
X-ORIGINAL-URL:https://brignoles-basket-ball.fr
X-WR-CALDESC:Évènements pour Brignoles Basket-Ball
REFRESH-INTERVAL;VALUE=DURATION:PT1H
X-Robots-Tag:noindex
X-PUBLISHED-TTL:PT1H
BEGIN:VTIMEZONE
TZID:Europe/Paris
BEGIN:DAYLIGHT
TZOFFSETFROM:+0100
TZOFFSETTO:+0200
TZNAME:CEST
DTSTART:20210328T010000
END:DAYLIGHT
BEGIN:STANDARD
TZOFFSETFROM:+0200
TZOFFSETTO:+0100
TZNAME:CET
DTSTART:20211031T010000
END:STANDARD
BEGIN:DAYLIGHT
TZOFFSETFROM:+0100
TZOFFSETTO:+0200
TZNAME:CEST
DTSTART:20220327T010000
END:DAYLIGHT
BEGIN:STANDARD
TZOFFSETFROM:+0200
TZOFFSETTO:+0100
TZNAME:CET
DTSTART:20221030T010000
END:STANDARD
BEGIN:DAYLIGHT
TZOFFSETFROM:+0100
TZOFFSETTO:+0200
TZNAME:CEST
DTSTART:20230326T010000
END:DAYLIGHT
BEGIN:STANDARD
TZOFFSETFROM:+0200
TZOFFSETTO:+0100
TZNAME:CET
DTSTART:20231029T010000
END:STANDARD
BEGIN:DAYLIGHT
TZOFFSETFROM:+0100
TZOFFSETTO:+0200
TZNAME:CEST
DTSTART:20240331T010000
END:DAYLIGHT
BEGIN:STANDARD
TZOFFSETFROM:+0200
TZOFFSETTO:+0100
TZNAME:CET
DTSTART:20241027T010000
END:STANDARD
END:VTIMEZONE
BEGIN:VEVENT
DTSTART;TZID=Europe/Paris:20231111T160000
DTEND;TZID=Europe/Paris:20231111T180000
DTSTAMP:20260419T205751
CREATED:20210930T100551Z
LAST-MODIFIED:20231101T204011Z
UID:20712-1699718400-1699725600@brignoles-basket-ball.fr
SUMMARY:MATCH DMU15-2
DESCRIPTION:  \nBasket Club Grimaud Ste Maxime vs  Brignoles Basket Ball – 2 \n 
URL:https://brignoles-basket-ball.fr/evenement/copy-of-match-dmu15-2-31/
LOCATION:GYMNASE DES BLAQUIERES\, Chemin des Blaquières\, GRIMAUD\, VAR\, 83310\, France
CATEGORIES:Match
ATTACH;FMTTYPE=image/png:https://brignoles-basket-ball.fr/wp-content/uploads/2021/09/M-D15-V1.png
END:VEVENT
BEGIN:VEVENT
DTSTART;TZID=Europe/Paris:20231014T173000
DTEND;TZID=Europe/Paris:20231014T193000
DTSTAMP:20260419T205751
CREATED:20210930T100551Z
LAST-MODIFIED:20231008T143852Z
UID:20175-1697304600-1697311800@brignoles-basket-ball.fr
SUMMARY:MATCH DMU15-2
DESCRIPTION:  \nBrignoles Basket Ball – 2 vs Saint Raphael Var Basket  \n 
URL:https://brignoles-basket-ball.fr/evenement/copy-of-match-dmu15-2-30/
LOCATION:SALLE RAYNOUARD\,  Avenue des Martyrs de la Résistance\, BRIGNOLES\, VAR\, 83170\, France
CATEGORIES:Match
ATTACH;FMTTYPE=image/png:https://brignoles-basket-ball.fr/wp-content/uploads/2021/09/M-D15-V1.png
END:VEVENT
BEGIN:VEVENT
DTSTART;TZID=Europe/Paris:20231014T153000
DTEND;TZID=Europe/Paris:20231014T173000
DTSTAMP:20260419T205751
CREATED:20210930T100551Z
LAST-MODIFIED:20231008T143743Z
UID:20172-1697297400-1697304600@brignoles-basket-ball.fr
SUMMARY:MATCH DMU15-1
DESCRIPTION:  \nBrignoles Basket Ball – 1 vs Fréjus Var Basket AMSL
URL:https://brignoles-basket-ball.fr/evenement/copy-of-match-dmu15-1-2/
LOCATION:SALLE RAYNOUARD\,  Avenue des Martyrs de la Résistance\, BRIGNOLES\, VAR\, 83170\, France
CATEGORIES:Match
ATTACH;FMTTYPE=image/png:https://brignoles-basket-ball.fr/wp-content/uploads/2021/09/M-D15-V1.png
END:VEVENT
BEGIN:VEVENT
DTSTART;TZID=Europe/Paris:20231008T110000
DTEND;TZID=Europe/Paris:20231008T130000
DTSTAMP:20260419T205751
CREATED:20210930T100551Z
LAST-MODIFIED:20231001T194416Z
UID:19965-1696762800-1696770000@brignoles-basket-ball.fr
SUMMARY:MATCH DMU15-2
DESCRIPTION:  \nAthlétic Sporting Arcois vs  Brignoles Basket Ball – 2  \n 
URL:https://brignoles-basket-ball.fr/evenement/copy-of-match-dmu15-2-29/
LOCATION:SALLE POLYVALENTE OMNISPORT\, AVENUE DE LA GARE\, LES ARCS\, VAR\, 83460\, France
CATEGORIES:Match
ATTACH;FMTTYPE=image/png:https://brignoles-basket-ball.fr/wp-content/uploads/2021/09/M-D15-V1.png
END:VEVENT
BEGIN:VEVENT
DTSTART;TZID=Europe/Paris:20231007T180000
DTEND;TZID=Europe/Paris:20231007T200000
DTSTAMP:20260419T205751
CREATED:20210930T100551Z
LAST-MODIFIED:20231001T193922Z
UID:19961-1696701600-1696708800@brignoles-basket-ball.fr
SUMMARY:MATCH DMU15-1
DESCRIPTION:  \nBasket Club Sollies Farlède vs   Brignoles Basket Ball – 1   \n 
URL:https://brignoles-basket-ball.fr/evenement/copy-of-match-dmu15-1/
LOCATION:GYMNASE VALLEE DU GAPEAU\, Quartier les Ferrages\, SOLLIES-PONT\, VAR\, 83210\, France
CATEGORIES:Match
ATTACH;FMTTYPE=image/png:https://brignoles-basket-ball.fr/wp-content/uploads/2021/09/M-D15-V1.png
END:VEVENT
BEGIN:VEVENT
DTSTART;TZID=Europe/Paris:20230930T143000
DTEND;TZID=Europe/Paris:20230930T163000
DTSTAMP:20260419T205751
CREATED:20210930T100551Z
LAST-MODIFIED:20230926T141124Z
UID:19829-1696084200-1696091400@brignoles-basket-ball.fr
SUMMARY:MATCH DMU15-1
DESCRIPTION:  \n Brignoles Basket Ball – 1  vs  Six Fours Basket Club \n 
URL:https://brignoles-basket-ball.fr/evenement/copy-of-match-dmu15-2-28/
LOCATION:COMPLEXE SPORTIF JEAN JACQUES MARCEL\, 5 Bd Just Marie Raynouard\, Brignoles\, 83170
CATEGORIES:Match
ATTACH;FMTTYPE=image/png:https://brignoles-basket-ball.fr/wp-content/uploads/2021/09/M-D15-V1.png
END:VEVENT
BEGIN:VEVENT
DTSTART;TZID=Europe/Paris:20230930T123000
DTEND;TZID=Europe/Paris:20230930T143000
DTSTAMP:20260419T205751
CREATED:20210930T100551Z
LAST-MODIFIED:20230926T141155Z
UID:19830-1696077000-1696084200@brignoles-basket-ball.fr
SUMMARY:MATCH DMU15-2
DESCRIPTION:  \nBrignoles Basket Ball – 2   vs  Ca Roquebrune Sur Argens \n 
URL:https://brignoles-basket-ball.fr/evenement/copy-of-copy-of-match-dmu15-2/
LOCATION:COMPLEXE SPORTIF JEAN JACQUES MARCEL\, 5 Bd Just Marie Raynouard\, Brignoles\, 83170
CATEGORIES:Match
ATTACH;FMTTYPE=image/png:https://brignoles-basket-ball.fr/wp-content/uploads/2021/09/M-D15-V1.png
END:VEVENT
BEGIN:VEVENT
DTSTART;TZID=Europe/Paris:20230506T140000
DTEND;TZID=Europe/Paris:20230506T160000
DTSTAMP:20260419T205751
CREATED:20210930T100551Z
LAST-MODIFIED:20230501T111228Z
UID:17992-1683381600-1683388800@brignoles-basket-ball.fr
SUMMARY:MATCH DMU15-2
DESCRIPTION:  \n  Sanary Basket Club vs  Brignoles Basket Ball \n 
URL:https://brignoles-basket-ball.fr/evenement/copy-of-match-dmu15-2-27/
LOCATION:GYMNASE JEAN BRUNEL\, 194 Av du 2 ème SPAHIS\, SANARY-SUR-MER\, VAR\, 83110\, France
CATEGORIES:Match
ATTACH;FMTTYPE=image/png:https://brignoles-basket-ball.fr/wp-content/uploads/2021/09/M-D15-V1.png
END:VEVENT
BEGIN:VEVENT
DTSTART;TZID=Europe/Paris:20230401T153000
DTEND;TZID=Europe/Paris:20230401T173000
DTSTAMP:20260419T205751
CREATED:20210930T100551Z
LAST-MODIFIED:20230330T203810Z
UID:17279-1680363000-1680370200@brignoles-basket-ball.fr
SUMMARY:MATCH DMU15-2
DESCRIPTION:  \n  Brignoles Basket Ball  vs  Sanary Basket Club \n 
URL:https://brignoles-basket-ball.fr/evenement/copy-of-match-dmu15-2-26/
LOCATION:SALLE RAYNOUARD\,  Avenue des Martyrs de la Résistance\, BRIGNOLES\, VAR\, 83170\, France
CATEGORIES:Match
ATTACH;FMTTYPE=image/png:https://brignoles-basket-ball.fr/wp-content/uploads/2021/09/M-D15-V1.png
END:VEVENT
BEGIN:VEVENT
DTSTART;TZID=Europe/Paris:20230318T170000
DTEND;TZID=Europe/Paris:20230318T190000
DTSTAMP:20260419T205751
CREATED:20210930T100551Z
LAST-MODIFIED:20230315T222112Z
UID:17152-1679158800-1679166000@brignoles-basket-ball.fr
SUMMARY:MATCH DMU15-2
DESCRIPTION:  \n  Brignoles Basket Ball  vs  Athlétic Sporting Arcois – 2  \n 
URL:https://brignoles-basket-ball.fr/evenement/copy-of-match-dmu15-2-25/
LOCATION:COMPLEXE SPORTIF JEAN JACQUES MARCEL\, 5 Bd Just Marie Raynouard\, Brignoles\, 83170
CATEGORIES:Match
ATTACH;FMTTYPE=image/png:https://brignoles-basket-ball.fr/wp-content/uploads/2021/09/M-D15-V1.png
END:VEVENT
BEGIN:VEVENT
DTSTART;TZID=Europe/Paris:20230311T160000
DTEND;TZID=Europe/Paris:20230311T180000
DTSTAMP:20260419T205751
CREATED:20210930T100551Z
LAST-MODIFIED:20230305T213039Z
UID:17103-1678550400-1678557600@brignoles-basket-ball.fr
SUMMARY:MATCH DMU15-2
DESCRIPTION:  \n  \nHyères Toulon Var Basket – 1     vs   Brignoles Basket Ball     
URL:https://brignoles-basket-ball.fr/evenement/copy-of-match-dmu15-2-24/
LOCATION:GYMNASE DU GOLF HOTEL\, Allée Georges Dussauge\, Hyères\, 83400\, France
CATEGORIES:Match
ATTACH;FMTTYPE=image/png:https://brignoles-basket-ball.fr/wp-content/uploads/2021/09/M-D15-V1.png
END:VEVENT
BEGIN:VEVENT
DTSTART;TZID=Europe/Paris:20230304T150000
DTEND;TZID=Europe/Paris:20230304T170000
DTSTAMP:20260419T205751
CREATED:20210930T100551Z
LAST-MODIFIED:20230225T155820Z
UID:16473-1677942000-1677949200@brignoles-basket-ball.fr
SUMMARY:MATCH DMU15-2
DESCRIPTION:  \n  \nSaint Raphael Var Basket   vs   Brignoles Basket Ball     
URL:https://brignoles-basket-ball.fr/evenement/copy-of-match-dmu15-2-23/
LOCATION:GYMNASE VICTOR SERGENT\, 28 Rue du Stade\, SAINT-RAPHAEL\, VAR\, 83530\, France
CATEGORIES:Match
ATTACH;FMTTYPE=image/png:https://brignoles-basket-ball.fr/wp-content/uploads/2021/09/M-D15-V1.png
END:VEVENT
BEGIN:VEVENT
DTSTART;TZID=Europe/Paris:20230204T170000
DTEND;TZID=Europe/Paris:20230204T190000
DTSTAMP:20260419T205751
CREATED:20210930T100551Z
LAST-MODIFIED:20230130T153107Z
UID:16423-1675530000-1675537200@brignoles-basket-ball.fr
SUMMARY:MATCH DMU15-2
DESCRIPTION:  \n  \nBrignoles Basket Ball  vs Basket Ball Club Pignantais         
URL:https://brignoles-basket-ball.fr/evenement/copy-of-match-dmu15-2-22/
LOCATION:COMPLEXE SPORTIF JEAN JACQUES MARCEL\, 5 Bd Just Marie Raynouard\, Brignoles\, 83170
CATEGORIES:Match
ATTACH;FMTTYPE=image/png:https://brignoles-basket-ball.fr/wp-content/uploads/2021/09/M-D15-V1.png
END:VEVENT
BEGIN:VEVENT
DTSTART;TZID=Europe/Paris:20230121T160000
DTEND;TZID=Europe/Paris:20230121T180000
DTSTAMP:20260419T205751
CREATED:20210930T100551Z
LAST-MODIFIED:20230117T123831Z
UID:16025-1674316800-1674324000@brignoles-basket-ball.fr
SUMMARY:MATCH DMU15-2
DESCRIPTION:  \n  \nFréjus Var Basket AMSL vs  Brignoles Basket Ball 
URL:https://brignoles-basket-ball.fr/evenement/copy-of-match-dmu15-2-21/
LOCATION:HALL DES SPORTS LES CHENES\, Frejus Var Basket\, FREJUS\, VAR\, 83370\, France
CATEGORIES:Match
ATTACH;FMTTYPE=image/png:https://brignoles-basket-ball.fr/wp-content/uploads/2021/09/M-D15-V1.png
END:VEVENT
BEGIN:VEVENT
DTSTART;TZID=Europe/Paris:20230114T170000
DTEND;TZID=Europe/Paris:20230114T190000
DTSTAMP:20260419T205751
CREATED:20210930T100551Z
LAST-MODIFIED:20230108T224057Z
UID:15977-1673715600-1673722800@brignoles-basket-ball.fr
SUMMARY:MATCH DMU15-2
DESCRIPTION:  \n  \nBrignoles Basket Ball vs  ENT Cuers-Pierrefeu / Gareoult \n 
URL:https://brignoles-basket-ball.fr/evenement/copy-of-match-dmu15-2-20/
LOCATION:COMPLEXE SPORTIF JEAN JACQUES MARCEL\, 5 Bd Just Marie Raynouard\, Brignoles\, 83170
CATEGORIES:Match
ATTACH;FMTTYPE=image/png:https://brignoles-basket-ball.fr/wp-content/uploads/2021/09/M-D15-V1.png
END:VEVENT
BEGIN:VEVENT
DTSTART;TZID=Europe/Paris:20230107T150000
DTEND;TZID=Europe/Paris:20230107T170000
DTSTAMP:20260419T205751
CREATED:20210930T100551Z
LAST-MODIFIED:20230101T233301Z
UID:15688-1673103600-1673110800@brignoles-basket-ball.fr
SUMMARY:MATCH DMU15-2
DESCRIPTION:  \n  \nBasket Club Sollies Farlède – 2  vs Brignoles Basket Ball \n 
URL:https://brignoles-basket-ball.fr/evenement/copy-of-match-dmu15-2-19/
LOCATION:GYMNASE VALLEE DU GAPEAU\, Quartier les Ferrages\, SOLLIES-PONT\, VAR\, 83210\, France
CATEGORIES:Match
ATTACH;FMTTYPE=image/png:https://brignoles-basket-ball.fr/wp-content/uploads/2021/09/M-D15-V1.png
END:VEVENT
BEGIN:VEVENT
DTSTART;TZID=Europe/Paris:20221217T130000
DTEND;TZID=Europe/Paris:20221217T150000
DTSTAMP:20260419T205751
CREATED:20210930T100551Z
LAST-MODIFIED:20221211T181103Z
UID:14075-1671282000-1671289200@brignoles-basket-ball.fr
SUMMARY:MATCH DMU15-2
DESCRIPTION:  \nBrignoles Basket Ball  vs Fréjus Var Basket AMSL   \n 
URL:https://brignoles-basket-ball.fr/evenement/copy-of-match-dmu15-2-14/
LOCATION:COMPLEXE SPORTIF JEAN JACQUES MARCEL\, 5 Bd Just Marie Raynouard\, Brignoles\, 83170
CATEGORIES:Match
ATTACH;FMTTYPE=image/png:https://brignoles-basket-ball.fr/wp-content/uploads/2021/09/M-D15-V1.png
END:VEVENT
BEGIN:VEVENT
DTSTART;TZID=Europe/Paris:20221210T180000
DTEND;TZID=Europe/Paris:20221210T200000
DTSTAMP:20260419T205751
CREATED:20210930T100551Z
LAST-MODIFIED:20221204T171353Z
UID:15366-1670695200-1670702400@brignoles-basket-ball.fr
SUMMARY:MATCH DMU15-2
DESCRIPTION:  \nAthlétic Sporting Arcois – 2 vs Brignoles Basket Ball \n 
URL:https://brignoles-basket-ball.fr/evenement/copy-of-match-dmu15-2-18/
LOCATION:SALLE POLYVALENTE OMNISPORT\, AVENUE DE LA GARE\, LES ARCS\, VAR\, 83460\, France
CATEGORIES:Match
ATTACH;FMTTYPE=image/png:https://brignoles-basket-ball.fr/wp-content/uploads/2021/09/M-D15-V1.png
END:VEVENT
BEGIN:VEVENT
DTSTART;TZID=Europe/Paris:20221203T150000
DTEND;TZID=Europe/Paris:20221203T170000
DTSTAMP:20260419T205751
CREATED:20210930T100551Z
LAST-MODIFIED:20221127T162733Z
UID:15311-1670079600-1670086800@brignoles-basket-ball.fr
SUMMARY:MATCH DMU15-2
DESCRIPTION:  \nBrignoles Basket Ball vs Hyères Toulon Var Basket – 1 \n 
URL:https://brignoles-basket-ball.fr/evenement/copy-of-match-dmu15-2-17/
LOCATION:GYMNASE DU COLLEGE JEAN MOULIN\, 648 R. de la Viguière\, 83170 Brignoles\, BRIGNOLES\, 83170
CATEGORIES:Match
ATTACH;FMTTYPE=image/png:https://brignoles-basket-ball.fr/wp-content/uploads/2021/09/M-D15-V1.png
END:VEVENT
BEGIN:VEVENT
DTSTART;TZID=Europe/Paris:20221119T170000
DTEND;TZID=Europe/Paris:20221119T190000
DTSTAMP:20260419T205751
CREATED:20210930T100551Z
LAST-MODIFIED:20221115T133045Z
UID:14872-1668877200-1668884400@brignoles-basket-ball.fr
SUMMARY:MATCH DMU15-2
DESCRIPTION:  \nBrignoles Basket Ball   vs Saint Raphael Var Basket \n 
URL:https://brignoles-basket-ball.fr/evenement/copy-of-match-dmu15-2-16/
LOCATION:COMPLEXE SPORTIF JEAN JACQUES MARCEL\, 5 Bd Just Marie Raynouard\, Brignoles\, 83170
CATEGORIES:Match
ATTACH;FMTTYPE=image/png:https://brignoles-basket-ball.fr/wp-content/uploads/2021/09/M-D15-V1.png
END:VEVENT
BEGIN:VEVENT
DTSTART;TZID=Europe/Paris:20221112T153000
DTEND;TZID=Europe/Paris:20221112T173000
DTSTAMP:20260419T205751
CREATED:20210930T100551Z
LAST-MODIFIED:20221107T141746Z
UID:14539-1668267000-1668274200@brignoles-basket-ball.fr
SUMMARY:MATCH DMU15-2
DESCRIPTION:  \nBasket Ball Club Pignantais vs Brignoles Basket Ball   \n 
URL:https://brignoles-basket-ball.fr/evenement/copy-of-match-dmu15-2-15/
LOCATION:BERTHOIRE\, Chemin fontaine des laines\, PIGNANS\, VAR\, 83790\, France
CATEGORIES:Match
ATTACH;FMTTYPE=image/png:https://brignoles-basket-ball.fr/wp-content/uploads/2021/09/M-D15-V1.png
END:VEVENT
BEGIN:VEVENT
DTSTART;TZID=Europe/Paris:20221008T163000
DTEND;TZID=Europe/Paris:20221008T183000
DTSTAMP:20260419T205751
CREATED:20210930T100551Z
LAST-MODIFIED:20221002T171956Z
UID:14028-1665246600-1665253800@brignoles-basket-ball.fr
SUMMARY:MATCH DMU15-2
DESCRIPTION:  \nENT Cuers-Pierrefeu / Gareoult vs Brignoles Basket Ball   \n 
URL:https://brignoles-basket-ball.fr/evenement/copy-of-match-dmu15-2-13/
LOCATION:COMPLEXE SPORTIF DU PAS DE LA GARENNE\, CHEMIN de L'ISSEMBLE\, PIERREFEU-DU-VAR\, VAR\, 83390\, France
CATEGORIES:Match
ATTACH;FMTTYPE=image/png:https://brignoles-basket-ball.fr/wp-content/uploads/2021/09/M-D15-V1.png
END:VEVENT
BEGIN:VEVENT
DTSTART;TZID=Europe/Paris:20221001T170000
DTEND;TZID=Europe/Paris:20221001T190000
DTSTAMP:20260419T205751
CREATED:20210930T100551Z
LAST-MODIFIED:20220925T174135Z
UID:13941-1664643600-1664650800@brignoles-basket-ball.fr
SUMMARY:MATCH DMU15-2
DESCRIPTION:  \nBrignoles Basket Ball vs Basket Club Sollies Farlède – 2 \n 
URL:https://brignoles-basket-ball.fr/evenement/copy-of-match-dmu15-2-12/
LOCATION:COMPLEXE SPORTIF JEAN JACQUES MARCEL\, 5 Bd Just Marie Raynouard\, Brignoles\, 83170
CATEGORIES:Match
ATTACH;FMTTYPE=image/png:https://brignoles-basket-ball.fr/wp-content/uploads/2021/09/M-D15-V1.png
END:VEVENT
BEGIN:VEVENT
DTSTART;TZID=Europe/Paris:20220521T153000
DTEND;TZID=Europe/Paris:20220521T173000
DTSTAMP:20260419T205751
CREATED:20210930T100551Z
LAST-MODIFIED:20220516T124541Z
UID:12022-1653147000-1653154200@brignoles-basket-ball.fr
SUMMARY:MATCH DMU15-2
DESCRIPTION:Hyères Toulon Var Basket – 1 vs Brignoles Basket Ball \n 
URL:https://brignoles-basket-ball.fr/evenement/copy-of-match-dmu15-2-11/
LOCATION:GYMNASE DU GOLF HOTEL\, Allée Georges Dussauge\, Hyères\, 83400\, France
CATEGORIES:Match
ATTACH;FMTTYPE=image/png:https://brignoles-basket-ball.fr/wp-content/uploads/2021/09/M-D15-V1.png
END:VEVENT
BEGIN:VEVENT
DTSTART;TZID=Europe/Paris:20220514T170000
DTEND;TZID=Europe/Paris:20220514T190000
DTSTAMP:20260419T205751
CREATED:20210930T100551Z
LAST-MODIFIED:20220508T235030Z
UID:11881-1652547600-1652554800@brignoles-basket-ball.fr
SUMMARY:MATCH DMU15-2
DESCRIPTION:Brignoles Basket Ball vs Union Sportive Pradet Basket \n 
URL:https://brignoles-basket-ball.fr/evenement/copy-of-match-dmu15-2-10/
LOCATION:SALLE RAYNOUARD\,  Avenue des Martyrs de la Résistance\, BRIGNOLES\, VAR\, 83170\, France
CATEGORIES:Match
ATTACH;FMTTYPE=image/png:https://brignoles-basket-ball.fr/wp-content/uploads/2021/09/M-D15-V1.png
END:VEVENT
BEGIN:VEVENT
DTSTART;TZID=Europe/Paris:20220507T160000
DTEND;TZID=Europe/Paris:20220507T180000
DTSTAMP:20260419T205751
CREATED:20210930T100551Z
LAST-MODIFIED:20220501T184515Z
UID:11730-1651939200-1651946400@brignoles-basket-ball.fr
SUMMARY:MATCH DMU15-2
DESCRIPTION:Brignoles Basket Ball vs Hyères Toulon Var Basket – 1   \n 
URL:https://brignoles-basket-ball.fr/evenement/copy-of-match-dmu15-2-9/
LOCATION:GYMNASE DU COLLEGE JEAN MOULIN\, 648 R. de la Viguière\, 83170 Brignoles\, BRIGNOLES\, 83170
CATEGORIES:Match
ATTACH;FMTTYPE=image/png:https://brignoles-basket-ball.fr/wp-content/uploads/2021/09/M-D15-V1.png
END:VEVENT
BEGIN:VEVENT
DTSTART;TZID=Europe/Paris:20220430T140000
DTEND;TZID=Europe/Paris:20220430T160000
DTSTAMP:20260419T205751
CREATED:20210930T100551Z
LAST-MODIFIED:20220424T205437Z
UID:11387-1651327200-1651334400@brignoles-basket-ball.fr
SUMMARY:MATCH DMU15-2
DESCRIPTION:Union Sportive Pradet Basket vs Brignoles Basket Ball     \n 
URL:https://brignoles-basket-ball.fr/evenement/copy-of-match-dmu15-2-8/
LOCATION:GYMNASE GERARD SEBASTIA\, La Batie CD 86\, LE PRADET\, 83220\, France
CATEGORIES:Match
ATTACH;FMTTYPE=image/png:https://brignoles-basket-ball.fr/wp-content/uploads/2021/09/M-D15-V1.png
END:VEVENT
BEGIN:VEVENT
DTSTART;TZID=Europe/Paris:20220402T150000
DTEND;TZID=Europe/Paris:20220402T170000
DTSTAMP:20260419T205751
CREATED:20210930T100551Z
LAST-MODIFIED:20220327T215804Z
UID:10946-1648911600-1648918800@brignoles-basket-ball.fr
SUMMARY:MATCH DMU15-2
DESCRIPTION:Athlétic Basket Club – Baume Saint-Maximin vs Brignoles Basket Ball \n 
URL:https://brignoles-basket-ball.fr/evenement/copy-of-match-dmu15-2-7/
LOCATION:COSEC Henri MATISSE\, route de Brignoles\, SAINT-MAXIMIN-LA-SAINTE-BAUME\, VAR\, 83470\, France
CATEGORIES:Match
ATTACH;FMTTYPE=image/png:https://brignoles-basket-ball.fr/wp-content/uploads/2021/09/M-D15-V1.png
END:VEVENT
BEGIN:VEVENT
DTSTART;TZID=Europe/Paris:20220323T180000
DTEND;TZID=Europe/Paris:20220323T200000
DTSTAMP:20260419T205751
CREATED:20210930T100551Z
LAST-MODIFIED:20220320T164453Z
UID:10612-1648058400-1648065600@brignoles-basket-ball.fr
SUMMARY:MATCH DMU15-2
DESCRIPTION:Brignoles Basket vs Athlétic Basket Club – Baume Saint-Maximin \n 
URL:https://brignoles-basket-ball.fr/evenement/copy-of-match-dmu15-2-6/
LOCATION:SALLE RAYNOUARD\,  Avenue des Martyrs de la Résistance\, BRIGNOLES\, VAR\, 83170\, France
CATEGORIES:Match
ATTACH;FMTTYPE=image/png:https://brignoles-basket-ball.fr/wp-content/uploads/2021/09/M-D15-V1.png
END:VEVENT
BEGIN:VEVENT
DTSTART;TZID=Europe/Paris:20220312T160000
DTEND;TZID=Europe/Paris:20220312T180000
DTSTAMP:20260419T205751
CREATED:20210930T100551Z
LAST-MODIFIED:20220306T155549Z
UID:10237-1647100800-1647108000@brignoles-basket-ball.fr
SUMMARY:MATCH DMU15-2
DESCRIPTION:Basket Cuers/Pierrefeu vs           Brignoles Basket Ball \n 
URL:https://brignoles-basket-ball.fr/evenement/copy-of-match-dmu15-2-5/
LOCATION:COMPLEXE SPORTIF DU PAS DE LA GARENNE\, CHEMIN de L'ISSEMBLE\, PIERREFEU-DU-VAR\, VAR\, 83390\, France
CATEGORIES:Match
ATTACH;FMTTYPE=image/png:https://brignoles-basket-ball.fr/wp-content/uploads/2021/09/M-D15-V1.png
END:VEVENT
END:VCALENDAR