BEGIN:VCALENDAR
VERSION:2.0
PRODID:-//Brignoles Basket-Ball - ECPv6.15.20//NONSGML v1.0//EN
CALSCALE:GREGORIAN
METHOD:PUBLISH
X-ORIGINAL-URL:https://brignoles-basket-ball.fr
X-WR-CALDESC:Évènements pour Brignoles Basket-Ball
REFRESH-INTERVAL;VALUE=DURATION:PT1H
X-Robots-Tag:noindex
X-PUBLISHED-TTL:PT1H
BEGIN:VTIMEZONE
TZID:Europe/Paris
BEGIN:DAYLIGHT
TZOFFSETFROM:+0100
TZOFFSETTO:+0200
TZNAME:CEST
DTSTART:20230326T010000
END:DAYLIGHT
BEGIN:STANDARD
TZOFFSETFROM:+0200
TZOFFSETTO:+0100
TZNAME:CET
DTSTART:20231029T010000
END:STANDARD
BEGIN:DAYLIGHT
TZOFFSETFROM:+0100
TZOFFSETTO:+0200
TZNAME:CEST
DTSTART:20240331T010000
END:DAYLIGHT
BEGIN:STANDARD
TZOFFSETFROM:+0200
TZOFFSETTO:+0100
TZNAME:CET
DTSTART:20241027T010000
END:STANDARD
BEGIN:DAYLIGHT
TZOFFSETFROM:+0100
TZOFFSETTO:+0200
TZNAME:CEST
DTSTART:20250330T010000
END:DAYLIGHT
BEGIN:STANDARD
TZOFFSETFROM:+0200
TZOFFSETTO:+0100
TZNAME:CET
DTSTART:20251026T010000
END:STANDARD
END:VTIMEZONE
BEGIN:VEVENT
DTSTART;TZID=Europe/Paris:20241109T170000
DTEND;TZID=Europe/Paris:20241109T190000
DTSTAMP:20260422T034825
CREATED:20210930T100551Z
LAST-MODIFIED:20241024T181924Z
UID:25260-1731171600-1731178800@brignoles-basket-ball.fr
SUMMARY:MATCH DMU15-1
DESCRIPTION:  \nBrignoles Basket Ball -1    vs   Basket Club La Garde \n  \n 
URL:https://brignoles-basket-ball.fr/evenement/copy-of-match-dmu15-1-19/
LOCATION:SALLE RAYNOUARD\,  Avenue des Martyrs de la Résistance\, BRIGNOLES\, VAR\, 83170\, France
CATEGORIES:Match
ATTACH;FMTTYPE=image/png:https://brignoles-basket-ball.fr/wp-content/uploads/2021/09/M-D15-V1.png
END:VEVENT
BEGIN:VEVENT
DTSTART;TZID=Europe/Paris:20241116T150000
DTEND;TZID=Europe/Paris:20241116T170000
DTSTAMP:20260422T034825
CREATED:20210930T100551Z
LAST-MODIFIED:20241027T202108Z
UID:25282-1731769200-1731776400@brignoles-basket-ball.fr
SUMMARY:MATCH DMU15-1
DESCRIPTION:  \nESCA Londaise       vs           Brignoles Basket Ball -1 \n  \n 
URL:https://brignoles-basket-ball.fr/evenement/copy-of-match-dmu15-1-20/
LOCATION:SALLE HORTENSE POLI\, Rue de Port-Cros\, LA LONDE-LES-MAURES\, VAR\, 83250\, France
CATEGORIES:Match
ATTACH;FMTTYPE=image/png:https://brignoles-basket-ball.fr/wp-content/uploads/2021/09/M-D15-V1.png
END:VEVENT
BEGIN:VEVENT
DTSTART;TZID=Europe/Paris:20241130T150000
DTEND;TZID=Europe/Paris:20241130T170000
DTSTAMP:20260422T034825
CREATED:20210930T100551Z
LAST-MODIFIED:20241124T135434Z
UID:25564-1732978800-1732986000@brignoles-basket-ball.fr
SUMMARY:MATCH DMU15-1
DESCRIPTION:  \n  \nBrignoles Basket Ball –    1        vs           ASPTT Toulon \n  \n 
URL:https://brignoles-basket-ball.fr/evenement/copy-of-match-dmu15-1-21/
LOCATION:SALLE RAYNOUARD\,  Avenue des Martyrs de la Résistance\, BRIGNOLES\, VAR\, 83170\, France
CATEGORIES:Match
ATTACH;FMTTYPE=image/png:https://brignoles-basket-ball.fr/wp-content/uploads/2021/09/M-D15-V1.png
END:VEVENT
END:VCALENDAR