BEGIN:VCALENDAR
VERSION:2.0
PRODID:-//Brignoles Basket-Ball - ECPv6.15.20//NONSGML v1.0//EN
CALSCALE:GREGORIAN
METHOD:PUBLISH
X-ORIGINAL-URL:https://brignoles-basket-ball.fr
X-WR-CALDESC:Évènements pour Brignoles Basket-Ball
REFRESH-INTERVAL;VALUE=DURATION:PT1H
X-Robots-Tag:noindex
X-PUBLISHED-TTL:PT1H
BEGIN:VTIMEZONE
TZID:Europe/Paris
BEGIN:DAYLIGHT
TZOFFSETFROM:+0100
TZOFFSETTO:+0200
TZNAME:CEST
DTSTART:20220327T010000
END:DAYLIGHT
BEGIN:STANDARD
TZOFFSETFROM:+0200
TZOFFSETTO:+0100
TZNAME:CET
DTSTART:20221030T010000
END:STANDARD
BEGIN:DAYLIGHT
TZOFFSETFROM:+0100
TZOFFSETTO:+0200
TZNAME:CEST
DTSTART:20230326T010000
END:DAYLIGHT
BEGIN:STANDARD
TZOFFSETFROM:+0200
TZOFFSETTO:+0100
TZNAME:CET
DTSTART:20231029T010000
END:STANDARD
BEGIN:DAYLIGHT
TZOFFSETFROM:+0100
TZOFFSETTO:+0200
TZNAME:CEST
DTSTART:20240331T010000
END:DAYLIGHT
BEGIN:STANDARD
TZOFFSETFROM:+0200
TZOFFSETTO:+0100
TZNAME:CET
DTSTART:20241027T010000
END:STANDARD
END:VTIMEZONE
BEGIN:VEVENT
DTSTART;TZID=Europe/Paris:20231111T160000
DTEND;TZID=Europe/Paris:20231111T180000
DTSTAMP:20260423T001143
CREATED:20210930T100551Z
LAST-MODIFIED:20231101T203751Z
UID:20710-1699718400-1699725600@brignoles-basket-ball.fr
SUMMARY:MATCH DMU15-1
DESCRIPTION:  \nBrignoles Basket Ball – 1 vs Hyères Toulon Var Basket – 2
URL:https://brignoles-basket-ball.fr/evenement/copy-of-match-dmu15-1-3/
LOCATION:COMPLEXE SPORTIF JEAN JACQUES MARCEL\, 5 Bd Just Marie Raynouard\, Brignoles\, 83170
CATEGORIES:Match
ATTACH;FMTTYPE=image/png:https://brignoles-basket-ball.fr/wp-content/uploads/2021/09/M-D15-V1.png
END:VEVENT
BEGIN:VEVENT
DTSTART;TZID=Europe/Paris:20231118T150000
DTEND;TZID=Europe/Paris:20231118T170000
DTSTAMP:20260423T001143
CREATED:20210930T100551Z
LAST-MODIFIED:20231101T210509Z
UID:20734-1700319600-1700326800@brignoles-basket-ball.fr
SUMMARY:MATCH DMU15-1
DESCRIPTION:  \nLa Seyne Basket vs Brignoles Basket Ball – 1
URL:https://brignoles-basket-ball.fr/evenement/copy-of-match-dmu15-1-4/
LOCATION:SALLE PAUL LANGEVIN\, Boulevard de l'Europe\, LA SEYNE-SUR-MER\, VAR\, 83500\, France
CATEGORIES:Match
ATTACH;FMTTYPE=image/png:https://brignoles-basket-ball.fr/wp-content/uploads/2021/09/M-D15-V1.png
END:VEVENT
END:VCALENDAR