BEGIN:VCALENDAR
VERSION:2.0
PRODID:-//Brignoles Basket-Ball - ECPv6.15.20//NONSGML v1.0//EN
CALSCALE:GREGORIAN
METHOD:PUBLISH
X-ORIGINAL-URL:https://brignoles-basket-ball.fr
X-WR-CALDESC:Évènements pour Brignoles Basket-Ball
REFRESH-INTERVAL;VALUE=DURATION:PT1H
X-Robots-Tag:noindex
X-PUBLISHED-TTL:PT1H
BEGIN:VTIMEZONE
TZID:Europe/Paris
BEGIN:DAYLIGHT
TZOFFSETFROM:+0100
TZOFFSETTO:+0200
TZNAME:CEST
DTSTART:20200329T010000
END:DAYLIGHT
BEGIN:STANDARD
TZOFFSETFROM:+0200
TZOFFSETTO:+0100
TZNAME:CET
DTSTART:20201025T010000
END:STANDARD
BEGIN:DAYLIGHT
TZOFFSETFROM:+0100
TZOFFSETTO:+0200
TZNAME:CEST
DTSTART:20210328T010000
END:DAYLIGHT
BEGIN:STANDARD
TZOFFSETFROM:+0200
TZOFFSETTO:+0100
TZNAME:CET
DTSTART:20211031T010000
END:STANDARD
BEGIN:DAYLIGHT
TZOFFSETFROM:+0100
TZOFFSETTO:+0200
TZNAME:CEST
DTSTART:20220327T010000
END:DAYLIGHT
BEGIN:STANDARD
TZOFFSETFROM:+0200
TZOFFSETTO:+0100
TZNAME:CET
DTSTART:20221030T010000
END:STANDARD
BEGIN:DAYLIGHT
TZOFFSETFROM:+0100
TZOFFSETTO:+0200
TZNAME:CEST
DTSTART:20230326T010000
END:DAYLIGHT
BEGIN:STANDARD
TZOFFSETFROM:+0200
TZOFFSETTO:+0100
TZNAME:CET
DTSTART:20231029T010000
END:STANDARD
END:VTIMEZONE
BEGIN:VEVENT
DTSTART;TZID=Europe/Paris:20220604T150000
DTEND;TZID=Europe/Paris:20220604T170000
DTSTAMP:20260419T153014
CREATED:20210930T100559Z
LAST-MODIFIED:20220601T113617Z
UID:12336-1654354800-1654362000@brignoles-basket-ball.fr
SUMMARY:MATCH DMU13-2
DESCRIPTION:Brignoles Basket Ball – 1 vs Saint Cyr Basket Club    \n 
URL:https://brignoles-basket-ball.fr/evenement/copy-of-match-dmu13-2-16/
LOCATION:SALLE RAYNOUARD\,  Avenue des Martyrs de la Résistance\, BRIGNOLES\, VAR\, 83170\, France
CATEGORIES:Match
ATTACH;FMTTYPE=image/png:https://brignoles-basket-ball.fr/wp-content/uploads/2021/09/M-D13-V1.png
END:VEVENT
BEGIN:VEVENT
DTSTART;TZID=Europe/Paris:20220521T100000
DTEND;TZID=Europe/Paris:20220521T120000
DTSTAMP:20260419T153014
CREATED:20210930T100559Z
LAST-MODIFIED:20220516T123544Z
UID:12016-1653127200-1653134400@brignoles-basket-ball.fr
SUMMARY:MATCH DMU13-2
DESCRIPTION:Saint Cyr Basket Club vs Brignoles Basket Ball – 1
URL:https://brignoles-basket-ball.fr/evenement/copy-of-match-dmu13-2-15/
LOCATION:GYMNASE MUNICIPAL Saint Cyr Sur Mer\, Boulevard de Lattre de Tassigny\, Saint-Cyr-sur-Mer\, 83270\, France
CATEGORIES:Match
ATTACH;FMTTYPE=image/png:https://brignoles-basket-ball.fr/wp-content/uploads/2021/09/M-D13-V1.png
END:VEVENT
BEGIN:VEVENT
DTSTART;TZID=Europe/Paris:20220514T150000
DTEND;TZID=Europe/Paris:20220514T170000
DTSTAMP:20260419T153014
CREATED:20210930T100559Z
LAST-MODIFIED:20220508T233445Z
UID:11872-1652540400-1652547600@brignoles-basket-ball.fr
SUMMARY:MATCH DMU13-2
DESCRIPTION:Brignoles Basket Ball – 1 vs Draguignan Union Club \n 
URL:https://brignoles-basket-ball.fr/evenement/copy-of-match-dmu13-2-14/
LOCATION:GYMNASE DU COLLEGE JEAN MOULIN\, 648 R. de la Viguière\, 83170 Brignoles\, BRIGNOLES\, 83170
CATEGORIES:Match
ATTACH;FMTTYPE=image/png:https://brignoles-basket-ball.fr/wp-content/uploads/2021/09/M-D13-V1.png
END:VEVENT
BEGIN:VEVENT
DTSTART;TZID=Europe/Paris:20220507T150000
DTEND;TZID=Europe/Paris:20220507T170000
DTSTAMP:20260419T153014
CREATED:20210930T100559Z
LAST-MODIFIED:20220501T184713Z
UID:11732-1651935600-1651942800@brignoles-basket-ball.fr
SUMMARY:MATCH DMU13-2
DESCRIPTION:Six Fours Basket Club vs Brignoles Basket Ball – 1    \n 
URL:https://brignoles-basket-ball.fr/evenement/copy-of-match-dmu13-2-13/
LOCATION:PALAIS DES SPORTS La Coudoulière\, Rue Curet Bas\, SIX-FOURS-LES-PLAGES\, VAR\, 83140\, France
CATEGORIES:Match
ATTACH;FMTTYPE=image/png:https://brignoles-basket-ball.fr/wp-content/uploads/2021/09/M-D13-V1.png
END:VEVENT
BEGIN:VEVENT
DTSTART;TZID=Europe/Paris:20220430T133000
DTEND;TZID=Europe/Paris:20220430T153000
DTSTAMP:20260419T153014
CREATED:20210930T100559Z
LAST-MODIFIED:20220424T205043Z
UID:11384-1651325400-1651332600@brignoles-basket-ball.fr
SUMMARY:MATCH DMU13-2
DESCRIPTION:Sanary Basket Club vs Brignoles Basket Ball – 1    \n 
URL:https://brignoles-basket-ball.fr/evenement/copy-of-match-dmu13-2-12/
LOCATION:GYMNASE JEAN BRUNEL\, 194 Av du 2 ème SPAHIS\, SANARY-SUR-MER\, VAR\, 83110\, France
CATEGORIES:Match
ATTACH;FMTTYPE=image/png:https://brignoles-basket-ball.fr/wp-content/uploads/2021/09/M-D13-V1.png
END:VEVENT
BEGIN:VEVENT
DTSTART;TZID=Europe/Paris:20220423T140000
DTEND;TZID=Europe/Paris:20220423T160000
DTSTAMP:20260419T153014
CREATED:20210930T100559Z
LAST-MODIFIED:20220421T194232Z
UID:11378-1650722400-1650729600@brignoles-basket-ball.fr
SUMMARY:MATCH DMU13-2
DESCRIPTION:Brignoles Basket Ball – 1 vs Saint Cyr Basket Club     \n 
URL:https://brignoles-basket-ball.fr/evenement/copy-of-match-dmu13-2-11/
LOCATION:GYMNASE DU COLLEGE JEAN MOULIN\, 648 R. de la Viguière\, 83170 Brignoles\, BRIGNOLES\, 83170
CATEGORIES:Match
ATTACH;FMTTYPE=image/png:https://brignoles-basket-ball.fr/wp-content/uploads/2021/09/M-D13-V1.png
END:VEVENT
BEGIN:VEVENT
DTSTART;TZID=Europe/Paris:20220402T160000
DTEND;TZID=Europe/Paris:20220402T180000
DTSTAMP:20260419T153014
CREATED:20210930T100559Z
LAST-MODIFIED:20220327T215354Z
UID:10942-1648915200-1648922400@brignoles-basket-ball.fr
SUMMARY:MATCH DMU13-2
DESCRIPTION:Brignoles Basket Ball – 1 vs Saint Raphael Var \n 
URL:https://brignoles-basket-ball.fr/evenement/copy-of-match-dmu13-2-10/
LOCATION:GYMNASE DU COLLEGE JEAN MOULIN\, 648 R. de la Viguière\, 83170 Brignoles\, BRIGNOLES\, 83170
CATEGORIES:Match
ATTACH;FMTTYPE=image/png:https://brignoles-basket-ball.fr/wp-content/uploads/2021/09/M-D13-V1.png
END:VEVENT
BEGIN:VEVENT
DTSTART;TZID=Europe/Paris:20220326T143000
DTEND;TZID=Europe/Paris:20220326T163000
DTSTAMP:20260419T153014
CREATED:20210930T100559Z
LAST-MODIFIED:20220320T165139Z
UID:10623-1648305000-1648312200@brignoles-basket-ball.fr
SUMMARY:MATCH DMU13-2
DESCRIPTION:ASPTT Toulon  vs   Brignoles Basket Ball – 1 \n 
URL:https://brignoles-basket-ball.fr/evenement/copy-of-match-dmu13-2-9/
LOCATION:SALLE PIANI\, 662 Vieux Chemin de Sainte-Musse\, TOULON\, VAR\, 83000\, France
CATEGORIES:Match
ATTACH;FMTTYPE=image/png:https://brignoles-basket-ball.fr/wp-content/uploads/2021/09/M-D13-V1.png
END:VEVENT
BEGIN:VEVENT
DTSTART;TZID=Europe/Paris:20220312T140000
DTEND;TZID=Europe/Paris:20220312T160000
DTSTAMP:20260419T153014
CREATED:20210930T100559Z
LAST-MODIFIED:20220306T155733Z
UID:10241-1647093600-1647100800@brignoles-basket-ball.fr
SUMMARY:MATCH DMU13-2
DESCRIPTION:Brignoles Basket Ball – 1 vs  Basket Club La Garde  
URL:https://brignoles-basket-ball.fr/evenement/copy-of-match-dmu13-2-8/
LOCATION:COMPLEXE SPORTIF JEAN JACQUES MARCEL\, 5 Bd Just Marie Raynouard\, Brignoles\, 83170
CATEGORIES:Match
ATTACH;FMTTYPE=image/png:https://brignoles-basket-ball.fr/wp-content/uploads/2021/09/M-D13-V1.png
END:VEVENT
BEGIN:VEVENT
DTSTART;TZID=Europe/Paris:20220305T150000
DTEND;TZID=Europe/Paris:20220305T170000
DTSTAMP:20260419T153014
CREATED:20210930T100559Z
LAST-MODIFIED:20220227T222514Z
UID:10021-1646492400-1646499600@brignoles-basket-ball.fr
SUMMARY:MATCH DMU13-2
DESCRIPTION:ES Lorguaise Basket Club               vs          Brignoles Basket Ball – 1
URL:https://brignoles-basket-ball.fr/evenement/copy-of-match-dmu13-2-7/
LOCATION:SALLE Raoûl LIMBRON\, 52 boulevard du real calamar\, LORGUES\, VAR\, 83510\, France
CATEGORIES:Match
ATTACH;FMTTYPE=image/png:https://brignoles-basket-ball.fr/wp-content/uploads/2021/09/M-D13-V1.png
END:VEVENT
BEGIN:VEVENT
DTSTART;TZID=Europe/Paris:20220226T160000
DTEND;TZID=Europe/Paris:20220226T180000
DTSTAMP:20260419T153014
CREATED:20210930T100559Z
LAST-MODIFIED:20220212T110458Z
UID:9788-1645891200-1645898400@brignoles-basket-ball.fr
SUMMARY:MATCH DMU13-2
DESCRIPTION:Brignoles Basket Ball – 1                vs           ESCA Londaise
URL:https://brignoles-basket-ball.fr/evenement/copy-of-match-dmu13-2-6/
LOCATION:GYMNASE DU COLLEGE JEAN MOULIN\, 648 R. de la Viguière\, 83170 Brignoles\, BRIGNOLES\, 83170
CATEGORIES:Match
ATTACH;FMTTYPE=image/png:https://brignoles-basket-ball.fr/wp-content/uploads/2021/09/M-D13-V1.png
END:VEVENT
BEGIN:VEVENT
DTSTART;TZID=Europe/Paris:20220130T140000
DTEND;TZID=Europe/Paris:20220130T160000
DTSTAMP:20260419T153014
CREATED:20210930T100559Z
LAST-MODIFIED:20220123T202800Z
UID:9045-1643551200-1643558400@brignoles-basket-ball.fr
SUMMARY:MATCH DMU13-2
DESCRIPTION: BRIGNOLES BASKET BALL – 1 VS SIX FOURS BASKET CLUB
URL:https://brignoles-basket-ball.fr/evenement/match-dmu13-2/
LOCATION:SALLE RAYNOUARD\,  Avenue des Martyrs de la Résistance\, BRIGNOLES\, VAR\, 83170\, France
CATEGORIES:Match
ATTACH;FMTTYPE=image/png:https://brignoles-basket-ball.fr/wp-content/uploads/2021/09/M-D13-V1.png
END:VEVENT
BEGIN:VEVENT
DTSTART;TZID=Europe/Paris:20220122T160000
DTEND;TZID=Europe/Paris:20220122T180000
DTSTAMP:20260419T153014
CREATED:20210930T100559Z
LAST-MODIFIED:20220109T231128Z
UID:9275-1642867200-1642874400@brignoles-basket-ball.fr
SUMMARY:MATCH DMU13-2
DESCRIPTION: BRIGNOLES BASKET BALL – 1 VS SAINT CYR BASKET CLUB
URL:https://brignoles-basket-ball.fr/evenement/copy-of-match-dmu13-2-4/
LOCATION:SALLE RAYNOUARD\,  Avenue des Martyrs de la Résistance\, BRIGNOLES\, VAR\, 83170\, France
CATEGORIES:Match
ATTACH;FMTTYPE=image/png:https://brignoles-basket-ball.fr/wp-content/uploads/2021/09/M-D13-V1.png
END:VEVENT
BEGIN:VEVENT
DTSTART;TZID=Europe/Paris:20220116T093000
DTEND;TZID=Europe/Paris:20220116T113000
DTSTAMP:20260419T153014
CREATED:20210930T100559Z
LAST-MODIFIED:20211213T143715Z
UID:9079-1642325400-1642332600@brignoles-basket-ball.fr
SUMMARY:MATCH DMU13-2
DESCRIPTION:DRAGUIGNAN UNION CLUB VS BRIGNOLES BASKET BALL – 1 
URL:https://brignoles-basket-ball.fr/evenement/copy-of-match-dmu13-2-3/
LOCATION:SALLE NASARRE\, 74 RUE VICTOR GELU\, DRAGUIGNAN\, VAR\, 83300\, France
CATEGORIES:Match
ATTACH;FMTTYPE=image/png:https://brignoles-basket-ball.fr/wp-content/uploads/2021/09/M-D13-V1.png
END:VEVENT
BEGIN:VEVENT
DTSTART;TZID=Europe/Paris:20211211T120000
DTEND;TZID=Europe/Paris:20211211T140000
DTSTAMP:20260419T153014
CREATED:20210930T100559Z
LAST-MODIFIED:20211213T135220Z
UID:8491-1639224000-1639231200@brignoles-basket-ball.fr
SUMMARY:MATCH DMU13-2
DESCRIPTION: BRIGNOLES BASKET BALL – 1 VS SANARY BASKET CLUB
URL:https://brignoles-basket-ball.fr/evenement/copy-of-match-dmu13-2/
LOCATION:COMPLEXE SPORTIF JEAN JACQUES MARCEL\, 5 Bd Just Marie Raynouard\, Brignoles\, 83170
CATEGORIES:Match
ATTACH;FMTTYPE=image/png:https://brignoles-basket-ball.fr/wp-content/uploads/2021/09/M-D13-V1.png
END:VEVENT
BEGIN:VEVENT
DTSTART;TZID=Europe/Paris:20211204T143000
DTEND;TZID=Europe/Paris:20211204T163000
DTSTAMP:20260419T153014
CREATED:20210930T100559Z
LAST-MODIFIED:20211128T161702Z
UID:6450-1638628200-1638635400@brignoles-basket-ball.fr
SUMMARY:MATCH DMU13-2
DESCRIPTION:SAINT RAPHAEL VAR BASKET VS BRIGNOLES BASKET BALL
URL:https://brignoles-basket-ball.fr/evenement/__trashed-116/
LOCATION:GYMNASE VICTOR SERGENT\, 28 Rue du Stade\, SAINT-RAPHAEL\, VAR\, 83530\, France
CATEGORIES:Match
ATTACH;FMTTYPE=image/png:https://brignoles-basket-ball.fr/wp-content/uploads/2021/09/M-D13-V1.png
END:VEVENT
BEGIN:VEVENT
DTSTART;TZID=Europe/Paris:20211120T160000
DTEND;TZID=Europe/Paris:20211120T180000
DTSTAMP:20260419T153014
CREATED:20210930T100549Z
LAST-MODIFIED:20211114T162715Z
UID:6438-1637424000-1637431200@brignoles-basket-ball.fr
SUMMARY:MATCH DMU13-2
DESCRIPTION:BRIGNOLES BASKET BALL VS ASPTT TOULON
URL:https://brignoles-basket-ball.fr/evenement/__trashed-104/
LOCATION:COMPLEXE SPORTIF JEAN JACQUES MARCEL\, 5 Bd Just Marie Raynouard\, Brignoles\, 83170
CATEGORIES:Match
ATTACH;FMTTYPE=image/png:https://brignoles-basket-ball.fr/wp-content/uploads/2021/09/M-D13-V1.png
END:VEVENT
BEGIN:VEVENT
DTSTART;TZID=Europe/Paris:20211113T140000
DTEND;TZID=Europe/Paris:20211113T160000
DTSTAMP:20260419T153014
CREATED:20210930T100548Z
LAST-MODIFIED:20211030T185744Z
UID:6433-1636812000-1636819200@brignoles-basket-ball.fr
SUMMARY:MATCH DMU13-2
DESCRIPTION:BASKET CLUB LA GARDE VS BRIGNOLES BASKET BALL
URL:https://brignoles-basket-ball.fr/evenement/__trashed-99/
LOCATION:COSEC GUY MOQUET\, 891 Chemin de la Planquette\, LA GARDE\, VAR\, 83130\, France
CATEGORIES:Match
ATTACH;FMTTYPE=image/png:https://brignoles-basket-ball.fr/wp-content/uploads/2021/09/M-D13-V1.png
END:VEVENT
END:VCALENDAR