BEGIN:VCALENDAR
VERSION:2.0
PRODID:-//Brignoles Basket-Ball - ECPv6.15.20//NONSGML v1.0//EN
CALSCALE:GREGORIAN
METHOD:PUBLISH
X-ORIGINAL-URL:https://brignoles-basket-ball.fr
X-WR-CALDESC:Évènements pour Brignoles Basket-Ball
REFRESH-INTERVAL;VALUE=DURATION:PT1H
X-Robots-Tag:noindex
X-PUBLISHED-TTL:PT1H
BEGIN:VTIMEZONE
TZID:Europe/Paris
BEGIN:DAYLIGHT
TZOFFSETFROM:+0100
TZOFFSETTO:+0200
TZNAME:CEST
DTSTART:20230326T010000
END:DAYLIGHT
BEGIN:STANDARD
TZOFFSETFROM:+0200
TZOFFSETTO:+0100
TZNAME:CET
DTSTART:20231029T010000
END:STANDARD
BEGIN:DAYLIGHT
TZOFFSETFROM:+0100
TZOFFSETTO:+0200
TZNAME:CEST
DTSTART:20240331T010000
END:DAYLIGHT
BEGIN:STANDARD
TZOFFSETFROM:+0200
TZOFFSETTO:+0100
TZNAME:CET
DTSTART:20241027T010000
END:STANDARD
BEGIN:DAYLIGHT
TZOFFSETFROM:+0100
TZOFFSETTO:+0200
TZNAME:CEST
DTSTART:20250330T010000
END:DAYLIGHT
BEGIN:STANDARD
TZOFFSETFROM:+0200
TZOFFSETTO:+0100
TZNAME:CET
DTSTART:20251026T010000
END:STANDARD
END:VTIMEZONE
BEGIN:VEVENT
DTSTART;TZID=Europe/Paris:20240210T153000
DTEND;TZID=Europe/Paris:20240210T173000
DTSTAMP:20260423T064149
CREATED:20220925T173730Z
LAST-MODIFIED:20240204T120151Z
UID:22450-1707579000-1707586200@brignoles-basket-ball.fr
SUMMARY:MATCH DMU13-2
DESCRIPTION:  \n  \nLa Seyne Basket   vs   Brignoles Basket Ball – 1
URL:https://brignoles-basket-ball.fr/evenement/copy-of-match-dmu13-2-25/
LOCATION:SALLE PAUL LANGEVIN\, Boulevard de l'Europe\, LA SEYNE-SUR-MER\, VAR\, 83500\, France
CATEGORIES:Match
ATTACH;FMTTYPE=image/png:https://brignoles-basket-ball.fr/wp-content/uploads/2021/09/M-D13-V1.png
END:VEVENT
BEGIN:VEVENT
DTSTART;TZID=Europe/Paris:20240217T180000
DTEND;TZID=Europe/Paris:20240217T200000
DTSTAMP:20260423T064149
CREATED:20220925T173730Z
LAST-MODIFIED:20240211T163852Z
UID:22487-1708192800-1708200000@brignoles-basket-ball.fr
SUMMARY:MATCH DMU13-2
DESCRIPTION:  \n  \nBrignoles Basket Ball – 1                vs           Sanary Basket Club
URL:https://brignoles-basket-ball.fr/evenement/copy-of-match-dmu13-2-26/
LOCATION:SALLE RAYNOUARD\,  Avenue des Martyrs de la Résistance\, BRIGNOLES\, VAR\, 83170\, France
CATEGORIES:Match
ATTACH;FMTTYPE=image/png:https://brignoles-basket-ball.fr/wp-content/uploads/2021/09/M-D13-V1.png
END:VEVENT
END:VCALENDAR