BEGIN:VCALENDAR
VERSION:2.0
PRODID:-//Brignoles Basket-Ball - ECPv6.15.20//NONSGML v1.0//EN
CALSCALE:GREGORIAN
METHOD:PUBLISH
X-ORIGINAL-URL:https://brignoles-basket-ball.fr
X-WR-CALDESC:Évènements pour Brignoles Basket-Ball
REFRESH-INTERVAL;VALUE=DURATION:PT1H
X-Robots-Tag:noindex
X-PUBLISHED-TTL:PT1H
BEGIN:VTIMEZONE
TZID:Europe/Paris
BEGIN:DAYLIGHT
TZOFFSETFROM:+0100
TZOFFSETTO:+0200
TZNAME:CEST
DTSTART:20210328T010000
END:DAYLIGHT
BEGIN:STANDARD
TZOFFSETFROM:+0200
TZOFFSETTO:+0100
TZNAME:CET
DTSTART:20211031T010000
END:STANDARD
BEGIN:DAYLIGHT
TZOFFSETFROM:+0100
TZOFFSETTO:+0200
TZNAME:CEST
DTSTART:20220327T010000
END:DAYLIGHT
BEGIN:STANDARD
TZOFFSETFROM:+0200
TZOFFSETTO:+0100
TZNAME:CET
DTSTART:20221030T010000
END:STANDARD
BEGIN:DAYLIGHT
TZOFFSETFROM:+0100
TZOFFSETTO:+0200
TZNAME:CEST
DTSTART:20230326T010000
END:DAYLIGHT
BEGIN:STANDARD
TZOFFSETFROM:+0200
TZOFFSETTO:+0100
TZNAME:CET
DTSTART:20231029T010000
END:STANDARD
END:VTIMEZONE
BEGIN:VEVENT
DTSTART;TZID=Europe/Paris:20220305T150000
DTEND;TZID=Europe/Paris:20220305T170000
DTSTAMP:20260425T004305
CREATED:20210930T100559Z
LAST-MODIFIED:20220227T222514Z
UID:10021-1646492400-1646499600@brignoles-basket-ball.fr
SUMMARY:MATCH DMU13-2
DESCRIPTION:ES Lorguaise Basket Club               vs          Brignoles Basket Ball – 1
URL:https://brignoles-basket-ball.fr/evenement/copy-of-match-dmu13-2-7/
LOCATION:SALLE Raoûl LIMBRON\, 52 boulevard du real calamar\, LORGUES\, VAR\, 83510\, France
CATEGORIES:Match
ATTACH;FMTTYPE=image/png:https://brignoles-basket-ball.fr/wp-content/uploads/2021/09/M-D13-V1.png
END:VEVENT
BEGIN:VEVENT
DTSTART;TZID=Europe/Paris:20220312T140000
DTEND;TZID=Europe/Paris:20220312T160000
DTSTAMP:20260425T004305
CREATED:20210930T100559Z
LAST-MODIFIED:20220306T155733Z
UID:10241-1647093600-1647100800@brignoles-basket-ball.fr
SUMMARY:MATCH DMU13-2
DESCRIPTION:Brignoles Basket Ball – 1 vs  Basket Club La Garde  
URL:https://brignoles-basket-ball.fr/evenement/copy-of-match-dmu13-2-8/
LOCATION:COMPLEXE SPORTIF JEAN JACQUES MARCEL\, 5 Bd Just Marie Raynouard\, Brignoles\, 83170
CATEGORIES:Match
ATTACH;FMTTYPE=image/png:https://brignoles-basket-ball.fr/wp-content/uploads/2021/09/M-D13-V1.png
END:VEVENT
BEGIN:VEVENT
DTSTART;TZID=Europe/Paris:20220326T143000
DTEND;TZID=Europe/Paris:20220326T163000
DTSTAMP:20260425T004305
CREATED:20210930T100559Z
LAST-MODIFIED:20220320T165139Z
UID:10623-1648305000-1648312200@brignoles-basket-ball.fr
SUMMARY:MATCH DMU13-2
DESCRIPTION:ASPTT Toulon  vs   Brignoles Basket Ball – 1 \n 
URL:https://brignoles-basket-ball.fr/evenement/copy-of-match-dmu13-2-9/
LOCATION:SALLE PIANI\, 662 Vieux Chemin de Sainte-Musse\, TOULON\, VAR\, 83000\, France
CATEGORIES:Match
ATTACH;FMTTYPE=image/png:https://brignoles-basket-ball.fr/wp-content/uploads/2021/09/M-D13-V1.png
END:VEVENT
END:VCALENDAR