BEGIN:VCALENDAR
VERSION:2.0
PRODID:-//Brignoles Basket-Ball - ECPv6.15.20//NONSGML v1.0//EN
CALSCALE:GREGORIAN
METHOD:PUBLISH
X-ORIGINAL-URL:https://brignoles-basket-ball.fr
X-WR-CALDESC:Évènements pour Brignoles Basket-Ball
REFRESH-INTERVAL;VALUE=DURATION:PT1H
X-Robots-Tag:noindex
X-PUBLISHED-TTL:PT1H
BEGIN:VTIMEZONE
TZID:Europe/Paris
BEGIN:DAYLIGHT
TZOFFSETFROM:+0100
TZOFFSETTO:+0200
TZNAME:CEST
DTSTART:20210328T010000
END:DAYLIGHT
BEGIN:STANDARD
TZOFFSETFROM:+0200
TZOFFSETTO:+0100
TZNAME:CET
DTSTART:20211031T010000
END:STANDARD
BEGIN:DAYLIGHT
TZOFFSETFROM:+0100
TZOFFSETTO:+0200
TZNAME:CEST
DTSTART:20220327T010000
END:DAYLIGHT
BEGIN:STANDARD
TZOFFSETFROM:+0200
TZOFFSETTO:+0100
TZNAME:CET
DTSTART:20221030T010000
END:STANDARD
BEGIN:DAYLIGHT
TZOFFSETFROM:+0100
TZOFFSETTO:+0200
TZNAME:CEST
DTSTART:20230326T010000
END:DAYLIGHT
BEGIN:STANDARD
TZOFFSETFROM:+0200
TZOFFSETTO:+0100
TZNAME:CET
DTSTART:20231029T010000
END:STANDARD
BEGIN:DAYLIGHT
TZOFFSETFROM:+0100
TZOFFSETTO:+0200
TZNAME:CEST
DTSTART:20240331T010000
END:DAYLIGHT
BEGIN:STANDARD
TZOFFSETFROM:+0200
TZOFFSETTO:+0100
TZNAME:CET
DTSTART:20241027T010000
END:STANDARD
END:VTIMEZONE
BEGIN:VEVENT
DTSTART;TZID=Europe/Paris:20231108T204500
DTEND;TZID=Europe/Paris:20231108T224500
DTSTAMP:20260425T192554
CREATED:20210930T100550Z
LAST-MODIFIED:20231101T202735Z
UID:20699-1699476300-1699483500@brignoles-basket-ball.fr
SUMMARY:MATCH DM2
DESCRIPTION:  \n  \n  \n  \n  \n ESCA Londaise   vs  Brignoles Basket Ball \n  \n  \n  \n  
URL:https://brignoles-basket-ball.fr/evenement/copy-of-match-dm2-31/
LOCATION:SALLE HORTENSE POLI\, Rue de Port-Cros\, LA LONDE-LES-MAURES\, VAR\, 83250\, France
CATEGORIES:Match
ATTACH;FMTTYPE=image/png:https://brignoles-basket-ball.fr/wp-content/uploads/2021/09/m_dm2-V1.png
END:VEVENT
BEGIN:VEVENT
DTSTART;TZID=Europe/Paris:20231021T200000
DTEND;TZID=Europe/Paris:20231021T220000
DTSTAMP:20260425T192554
CREATED:20210930T100550Z
LAST-MODIFIED:20231015T170907Z
UID:20243-1697918400-1697925600@brignoles-basket-ball.fr
SUMMARY:MATCH DM2
DESCRIPTION:  \n  \nCOUPE SUD \n  \n> Brignoles Basket Ball vs  Pelissanne Basket Avenir \n  \n  \n  \n  
URL:https://brignoles-basket-ball.fr/evenement/copy-of-match-dm2-30/
LOCATION:COMPLEXE SPORTIF JEAN JACQUES MARCEL\, 5 Bd Just Marie Raynouard\, Brignoles\, 83170
CATEGORIES:Match
ATTACH;FMTTYPE=image/png:https://brignoles-basket-ball.fr/wp-content/uploads/2021/09/m_dm2-V1.png
END:VEVENT
BEGIN:VEVENT
DTSTART;TZID=Europe/Paris:20231012T201500
DTEND;TZID=Europe/Paris:20231012T221500
DTSTAMP:20260425T192554
CREATED:20210930T100550Z
LAST-MODIFIED:20231008T182539Z
UID:20167-1697141700-1697148900@brignoles-basket-ball.fr
SUMMARY:MATCH DM2
DESCRIPTION:  \nBrignoles Basket Ball vs  Saint Raphael Var Basket  
URL:https://brignoles-basket-ball.fr/evenement/copy-of-match-dm2-29/
LOCATION:COMPLEXE SPORTIF JEAN JACQUES MARCEL\, 5 Bd Just Marie Raynouard\, Brignoles\, 83170
CATEGORIES:Match
ATTACH;FMTTYPE=image/png:https://brignoles-basket-ball.fr/wp-content/uploads/2021/09/m_dm2-V1.png
END:VEVENT
BEGIN:VEVENT
DTSTART;TZID=Europe/Paris:20231004T203000
DTEND;TZID=Europe/Paris:20231004T223000
DTSTAMP:20260425T192554
CREATED:20210930T100550Z
LAST-MODIFIED:20231001T192735Z
UID:19949-1696451400-1696458600@brignoles-basket-ball.fr
SUMMARY:MATCH DM2
DESCRIPTION:  \n Basket Club Sollies Farlède  vs  Brignoles Basket Ball
URL:https://brignoles-basket-ball.fr/evenement/copy-of-match-dm2-28/
LOCATION:GYMNASE VALLEE DU GAPEAU\, Quartier les Ferrages\, SOLLIES-PONT\, VAR\, 83210\, France
CATEGORIES:Match
ATTACH;FMTTYPE=image/png:https://brignoles-basket-ball.fr/wp-content/uploads/2021/09/m_dm2-V1.png
END:VEVENT
BEGIN:VEVENT
DTSTART;TZID=Europe/Paris:20230927T200000
DTEND;TZID=Europe/Paris:20230927T220000
DTSTAMP:20260425T192554
CREATED:20210930T100550Z
LAST-MODIFIED:20230920T132757Z
UID:19789-1695844800-1695852000@brignoles-basket-ball.fr
SUMMARY:MATCH DM2
DESCRIPTION:  \n Brignoles Basket Ball vs Athletic Sporting Arcois – 2 \n 
URL:https://brignoles-basket-ball.fr/evenement/copy-of-match-dm2-27/
LOCATION:SALLE RAYNOUARD\,  Avenue des Martyrs de la Résistance\, BRIGNOLES\, VAR\, 83170\, France
CATEGORIES:Match
ATTACH;FMTTYPE=image/png:https://brignoles-basket-ball.fr/wp-content/uploads/2021/09/m_dm2-V1.png
END:VEVENT
BEGIN:VEVENT
DTSTART;TZID=Europe/Paris:20230329T203000
DTEND;TZID=Europe/Paris:20230329T223000
DTSTAMP:20260425T192554
CREATED:20210930T100550Z
LAST-MODIFIED:20230326T142246Z
UID:17254-1680121800-1680129000@brignoles-basket-ball.fr
SUMMARY:MATCH DM2
DESCRIPTION:  \nAthlétic Sporting Arcois – 2 vs Brignoles Basket Ball
URL:https://brignoles-basket-ball.fr/evenement/copy-of-match-dm2-26/
LOCATION:SALLE POLYVALENTE OMNISPORT\, AVENUE DE LA GARE\, LES ARCS\, VAR\, 83460\, France
CATEGORIES:Match
ATTACH;FMTTYPE=image/png:https://brignoles-basket-ball.fr/wp-content/uploads/2021/09/m_dm2-V1.png
END:VEVENT
BEGIN:VEVENT
DTSTART;TZID=Europe/Paris:20230324T200000
DTEND;TZID=Europe/Paris:20230324T220000
DTSTAMP:20260425T192554
CREATED:20210930T100550Z
LAST-MODIFIED:20230319T154758Z
UID:17207-1679688000-1679695200@brignoles-basket-ball.fr
SUMMARY:MATCH DM2
DESCRIPTION:  \nBrignoles Basket Ball vs Basket Cuers/Pierrefeu
URL:https://brignoles-basket-ball.fr/evenement/copy-of-match-dm2-25/
LOCATION:COMPLEXE SPORTIF JEAN JACQUES MARCEL\, 5 Bd Just Marie Raynouard\, Brignoles\, 83170
CATEGORIES:Match
ATTACH;FMTTYPE=image/png:https://brignoles-basket-ball.fr/wp-content/uploads/2021/09/m_dm2-V1.png
END:VEVENT
BEGIN:VEVENT
DTSTART;TZID=Europe/Paris:20230315T203000
DTEND;TZID=Europe/Paris:20230315T223000
DTSTAMP:20260425T192554
CREATED:20210930T100550Z
LAST-MODIFIED:20230313T210543Z
UID:17125-1678912200-1678919400@brignoles-basket-ball.fr
SUMMARY:MATCH DM2
DESCRIPTION:  \nBasket Ball Club Pignantais          vs           Brignoles Basket Ball
URL:https://brignoles-basket-ball.fr/evenement/copy-of-match-dm2-24/
LOCATION:BERTHOIRE\, Chemin fontaine des laines\, PIGNANS\, VAR\, 83790\, France
CATEGORIES:Match
ATTACH;FMTTYPE=image/png:https://brignoles-basket-ball.fr/wp-content/uploads/2021/09/m_dm2-V1.png
END:VEVENT
BEGIN:VEVENT
DTSTART;TZID=Europe/Paris:20230309T200000
DTEND;TZID=Europe/Paris:20230309T220000
DTSTAMP:20260425T192554
CREATED:20210930T100550Z
LAST-MODIFIED:20230305T211037Z
UID:17090-1678392000-1678399200@brignoles-basket-ball.fr
SUMMARY:MATCH DM2
DESCRIPTION:  \nBrignoles Basket Ball      vs  ES Lorguaise Basket Club
URL:https://brignoles-basket-ball.fr/evenement/copy-of-match-dm2-23/
LOCATION:COMPLEXE SPORTIF JEAN JACQUES MARCEL\, 5 Bd Just Marie Raynouard\, Brignoles\, 83170
CATEGORIES:Match
ATTACH;FMTTYPE=image/png:https://brignoles-basket-ball.fr/wp-content/uploads/2021/09/m_dm2-V1.png
END:VEVENT
BEGIN:VEVENT
DTSTART;TZID=Europe/Paris:20230302T200000
DTEND;TZID=Europe/Paris:20230302T220000
DTSTAMP:20260425T192554
CREATED:20210930T100550Z
LAST-MODIFIED:20230225T154149Z
UID:16464-1677787200-1677794400@brignoles-basket-ball.fr
SUMMARY:MATCH DM2
DESCRIPTION:  \nBrignoles Basket Ball      vs    Saint Raphael Var Basket – 2
URL:https://brignoles-basket-ball.fr/evenement/copy-of-match-dm2-22/
LOCATION:COMPLEXE SPORTIF JEAN JACQUES MARCEL\, 5 Bd Just Marie Raynouard\, Brignoles\, 83170
CATEGORIES:Match
ATTACH;FMTTYPE=image/png:https://brignoles-basket-ball.fr/wp-content/uploads/2021/09/m_dm2-V1.png
END:VEVENT
BEGIN:VEVENT
DTSTART;TZID=Europe/Paris:20230126T200000
DTEND;TZID=Europe/Paris:20230126T220000
DTSTAMP:20260425T192554
CREATED:20210930T100550Z
LAST-MODIFIED:20230122T224609Z
UID:16402-1674763200-1674770400@brignoles-basket-ball.fr
SUMMARY:MATCH DM2
DESCRIPTION:  \nBrignoles Basket Ball      vs  Val D’Issole Basket
URL:https://brignoles-basket-ball.fr/evenement/copy-of-match-dm2-21/
LOCATION:COMPLEXE SPORTIF JEAN JACQUES MARCEL\, 5 Bd Just Marie Raynouard\, Brignoles\, 83170
CATEGORIES:Match
ATTACH;FMTTYPE=image/png:https://brignoles-basket-ball.fr/wp-content/uploads/2021/09/m_dm2-V1.png
END:VEVENT
BEGIN:VEVENT
DTSTART;TZID=Europe/Paris:20230119T200000
DTEND;TZID=Europe/Paris:20230119T220000
DTSTAMP:20260425T192554
CREATED:20210930T100550Z
LAST-MODIFIED:20230116T231609Z
UID:16014-1674158400-1674165600@brignoles-basket-ball.fr
SUMMARY:MATCH DM2
DESCRIPTION:  \nBrignoles Basket Ball      vs    ESCA Londaise – 2
URL:https://brignoles-basket-ball.fr/evenement/copy-of-match-dm2-20/
LOCATION:COMPLEXE SPORTIF JEAN JACQUES MARCEL\, 5 Bd Just Marie Raynouard\, Brignoles\, 83170
CATEGORIES:Match
ATTACH;FMTTYPE=image/png:https://brignoles-basket-ball.fr/wp-content/uploads/2021/09/m_dm2-V1.png
END:VEVENT
BEGIN:VEVENT
DTSTART;TZID=Europe/Paris:20221208T200000
DTEND;TZID=Europe/Paris:20221208T220000
DTSTAMP:20260425T192554
CREATED:20210930T100550Z
LAST-MODIFIED:20221204T165141Z
UID:15347-1670529600-1670536800@brignoles-basket-ball.fr
SUMMARY:MATCH DM2
DESCRIPTION:  \nBrignoles Basket Ball      vs      Athlétic Sporting Arcois – 2
URL:https://brignoles-basket-ball.fr/evenement/copy-of-match-dm2-19/
LOCATION:COMPLEXE SPORTIF JEAN JACQUES MARCEL\, 5 Bd Just Marie Raynouard\, Brignoles\, 83170
CATEGORIES:Match
ATTACH;FMTTYPE=image/png:https://brignoles-basket-ball.fr/wp-content/uploads/2021/09/m_dm2-V1.png
END:VEVENT
BEGIN:VEVENT
DTSTART;TZID=Europe/Paris:20221130T203000
DTEND;TZID=Europe/Paris:20221130T223000
DTSTAMP:20260425T192554
CREATED:20210930T100550Z
LAST-MODIFIED:20221127T160951Z
UID:15295-1669840200-1669847400@brignoles-basket-ball.fr
SUMMARY:MATCH DM2
DESCRIPTION:  \nBasket Cuers/Pierrefeu vs Brignoles Basket Ball
URL:https://brignoles-basket-ball.fr/evenement/copy-of-match-dm2-18/
LOCATION:COMPLEXE SPORTIF DU PAS DE LA GARENNE\, CHEMIN de L'ISSEMBLE\, PIERREFEU-DU-VAR\, VAR\, 83390\, France
CATEGORIES:Match
ATTACH;FMTTYPE=image/png:https://brignoles-basket-ball.fr/wp-content/uploads/2021/09/m_dm2-V1.png
END:VEVENT
BEGIN:VEVENT
DTSTART;TZID=Europe/Paris:20221124T200000
DTEND;TZID=Europe/Paris:20221124T220000
DTSTAMP:20260425T192554
CREATED:20210930T100550Z
LAST-MODIFIED:20221121T120218Z
UID:15231-1669320000-1669327200@brignoles-basket-ball.fr
SUMMARY:MATCH DM2
DESCRIPTION:  \n Brignoles Basket Ball   vs  Basket Ball Club Pignantais 
URL:https://brignoles-basket-ball.fr/evenement/copy-of-match-dm2-17/
LOCATION:COMPLEXE SPORTIF JEAN JACQUES MARCEL\, 5 Bd Just Marie Raynouard\, Brignoles\, 83170
CATEGORIES:Match
ATTACH;FMTTYPE=image/png:https://brignoles-basket-ball.fr/wp-content/uploads/2021/09/m_dm2-V1.png
END:VEVENT
BEGIN:VEVENT
DTSTART;TZID=Europe/Paris:20221116T204500
DTEND;TZID=Europe/Paris:20221116T224500
DTSTAMP:20260425T192554
CREATED:20210930T100550Z
LAST-MODIFIED:20221113T232459Z
UID:14851-1668631500-1668638700@brignoles-basket-ball.fr
SUMMARY:MATCH DM2
DESCRIPTION:  \n ES Lorguaise Basket Club    vs           Brignoles Basket Ball
URL:https://brignoles-basket-ball.fr/evenement/copy-of-match-dm2-16/
LOCATION:SALLE Raoûl LIMBRON\, 52 boulevard du real calamar\, LORGUES\, VAR\, 83510\, France
CATEGORIES:Match
ATTACH;FMTTYPE=image/png:https://brignoles-basket-ball.fr/wp-content/uploads/2021/09/m_dm2-V1.png
END:VEVENT
BEGIN:VEVENT
DTSTART;TZID=Europe/Paris:20221109T203000
DTEND;TZID=Europe/Paris:20221109T223000
DTSTAMP:20260425T192554
CREATED:20210930T100550Z
LAST-MODIFIED:20221106T222823Z
UID:14515-1668025800-1668033000@brignoles-basket-ball.fr
SUMMARY:MATCH DM2
DESCRIPTION:  \n Saint Raphael Var Basket – 2    vs           Brignoles Basket Ball
URL:https://brignoles-basket-ball.fr/evenement/copy-of-match-dm2-15/
LOCATION:GYMNASE VICTOR SERGENT\, 28 Rue du Stade\, SAINT-RAPHAEL\, VAR\, 83530\, France
CATEGORIES:Match
ATTACH;FMTTYPE=image/png:https://brignoles-basket-ball.fr/wp-content/uploads/2021/09/m_dm2-V1.png
END:VEVENT
BEGIN:VEVENT
DTSTART;TZID=Europe/Paris:20221013T200000
DTEND;TZID=Europe/Paris:20221013T220000
DTSTAMP:20260425T192554
CREATED:20210930T100550Z
LAST-MODIFIED:20221010T125327Z
UID:14057-1665691200-1665698400@brignoles-basket-ball.fr
SUMMARY:MATCH DM2
DESCRIPTION:  \nBrignoles Basket Ball vs Club Sportif Cavalairois – 2
URL:https://brignoles-basket-ball.fr/evenement/copy-of-match-dm2-14/
LOCATION:COMPLEXE SPORTIF JEAN JACQUES MARCEL\, 5 Bd Just Marie Raynouard\, Brignoles\, 83170
CATEGORIES:Match
ATTACH;FMTTYPE=image/png:https://brignoles-basket-ball.fr/wp-content/uploads/2021/09/m_dm2-V1.png
END:VEVENT
BEGIN:VEVENT
DTSTART;TZID=Europe/Paris:20220929T200000
DTEND;TZID=Europe/Paris:20220929T220000
DTSTAMP:20260425T192554
CREATED:20210930T100550Z
LAST-MODIFIED:20220925T171628Z
UID:13928-1664481600-1664488800@brignoles-basket-ball.fr
SUMMARY:MATCH DM2
DESCRIPTION:  \nBrignoles Basket Ball vs EN – CTC Var Est Basket-Ball – Ca Roquebrune Sur Argens
URL:https://brignoles-basket-ball.fr/evenement/copy-of-match-dm2-13/
LOCATION:COMPLEXE SPORTIF JEAN JACQUES MARCEL\, 5 Bd Just Marie Raynouard\, Brignoles\, 83170
CATEGORIES:Match
ATTACH;FMTTYPE=image/png:https://brignoles-basket-ball.fr/wp-content/uploads/2021/09/m_dm2-V1.png
END:VEVENT
BEGIN:VEVENT
DTSTART;TZID=Europe/Paris:20220923T204500
DTEND;TZID=Europe/Paris:20220923T224500
DTSTAMP:20260425T192554
CREATED:20210930T100550Z
LAST-MODIFIED:20220918T225437Z
UID:13787-1663965900-1663973100@brignoles-basket-ball.fr
SUMMARY:MATCH DM2
DESCRIPTION:  \nESCA Londaise – 2 vs Brignoles Basket Ball.
URL:https://brignoles-basket-ball.fr/evenement/copy-of-match-dm2-12/
LOCATION:SALLE HORTENSE POLI\, Rue de Port-Cros\, LA LONDE-LES-MAURES\, VAR\, 83250\, France
CATEGORIES:Match
ATTACH;FMTTYPE=image/png:https://brignoles-basket-ball.fr/wp-content/uploads/2021/09/m_dm2-V1.png
END:VEVENT
BEGIN:VEVENT
DTSTART;TZID=Europe/Paris:20220519T200000
DTEND;TZID=Europe/Paris:20220519T220000
DTSTAMP:20260425T192554
CREATED:20210930T100550Z
LAST-MODIFIED:20220516T124007Z
UID:12018-1652990400-1652997600@brignoles-basket-ball.fr
SUMMARY:MATCH DM2
DESCRIPTION:  \nBrignoles Basket Ball vs ESCA Londaise – 2
URL:https://brignoles-basket-ball.fr/evenement/copy-of-match-dm2-11/
LOCATION:COMPLEXE SPORTIF JEAN JACQUES MARCEL\, 5 Bd Just Marie Raynouard\, Brignoles\, 83170
CATEGORIES:Match
ATTACH;FMTTYPE=image/png:https://brignoles-basket-ball.fr/wp-content/uploads/2021/09/m_dm2-V1.png
END:VEVENT
BEGIN:VEVENT
DTSTART;TZID=Europe/Paris:20220330T203000
DTEND;TZID=Europe/Paris:20220330T223000
DTSTAMP:20260425T192554
CREATED:20210930T100550Z
LAST-MODIFIED:20220327T214838Z
UID:10935-1648672200-1648679400@brignoles-basket-ball.fr
SUMMARY:MATCH DM2
DESCRIPTION:  \nBasket Club Sollies Farlède vs Brignoles Basket Ball    
URL:https://brignoles-basket-ball.fr/evenement/copy-of-match-dm2-10/
LOCATION:GYMNASE VALLEE DU GAPEAU\, Quartier les Ferrages\, SOLLIES-PONT\, VAR\, 83210\, France
CATEGORIES:Match
ATTACH;FMTTYPE=image/png:https://brignoles-basket-ball.fr/wp-content/uploads/2021/09/m_dm2-V1.png
END:VEVENT
BEGIN:VEVENT
DTSTART;TZID=Europe/Paris:20220324T201500
DTEND;TZID=Europe/Paris:20220324T221500
DTSTAMP:20260425T192554
CREATED:20210930T100550Z
LAST-MODIFIED:20220320T164636Z
UID:10614-1648152900-1648160100@brignoles-basket-ball.fr
SUMMARY:MATCH DM2
DESCRIPTION:  \nBrignoles Basket Ball vs ES Lorguaise Basket Club
URL:https://brignoles-basket-ball.fr/evenement/copy-of-match-dm2-9/
LOCATION:COMPLEXE SPORTIF JEAN JACQUES MARCEL\, 5 Bd Just Marie Raynouard\, Brignoles\, 83170
CATEGORIES:Match
ATTACH;FMTTYPE=image/png:https://brignoles-basket-ball.fr/wp-content/uploads/2021/09/m_dm2-V1.png
END:VEVENT
BEGIN:VEVENT
DTSTART;TZID=Europe/Paris:20220315T203000
DTEND;TZID=Europe/Paris:20220315T223000
DTSTAMP:20260425T192554
CREATED:20210930T100550Z
LAST-MODIFIED:20220314T004929Z
UID:10270-1647376200-1647383400@brignoles-basket-ball.fr
SUMMARY:MATCH DM2
DESCRIPTION:  \nClub Sportif Cavalairois – 2  vs Brignoles Basket Ball
URL:https://brignoles-basket-ball.fr/evenement/copy-of-match-dm2-8/
LOCATION:COMPLEXE HENRI GROS (SALLE 1)\, AVENUE Pierre ET Marie CURIE\, CAVALAIRE-SUR-MER\, VAR\, 83240\, France
CATEGORIES:Match
ATTACH;FMTTYPE=image/png:https://brignoles-basket-ball.fr/wp-content/uploads/2021/09/m_dm2-V1.png
END:VEVENT
BEGIN:VEVENT
DTSTART;TZID=Europe/Paris:20220309T201500
DTEND;TZID=Europe/Paris:20220309T221500
DTSTAMP:20260425T192554
CREATED:20210930T100550Z
LAST-MODIFIED:20220306T160529Z
UID:10250-1646856900-1646864100@brignoles-basket-ball.fr
SUMMARY:MATCH DM2
DESCRIPTION:  \nBasket Ball Club Pignantais vs Brignoles Basket Ball
URL:https://brignoles-basket-ball.fr/evenement/copy-of-match-dm2-7/
LOCATION:BERTHOIRE\, Chemin fontaine des laines\, PIGNANS\, VAR\, 83790\, France
CATEGORIES:Match
ATTACH;FMTTYPE=image/png:https://brignoles-basket-ball.fr/wp-content/uploads/2021/09/m_dm2-V1.png
END:VEVENT
BEGIN:VEVENT
DTSTART;TZID=Europe/Paris:20220301T204500
DTEND;TZID=Europe/Paris:20220301T224500
DTSTAMP:20260425T192554
CREATED:20210930T100550Z
LAST-MODIFIED:20220227T232936Z
UID:10013-1646167500-1646174700@brignoles-basket-ball.fr
SUMMARY:MATCH DM2
DESCRIPTION:  \nEN – CTC Var Est Basket-Ball – Essor Varois ST Raphael BC   vs        Brignoles Basket Ball
URL:https://brignoles-basket-ball.fr/evenement/copy-of-match-dm2-6/
LOCATION:SALLE MAURICE CALANDRI\, Boulevard Kennedy\, ROQUEBRUNE-SUR-ARGENS\, VAR\, 83520\, France
CATEGORIES:Match
ATTACH;FMTTYPE=image/png:https://brignoles-basket-ball.fr/wp-content/uploads/2021/09/m_dm2-V1.png
END:VEVENT
BEGIN:VEVENT
DTSTART;TZID=Europe/Paris:20220224T201500
DTEND;TZID=Europe/Paris:20220224T221500
DTSTAMP:20260425T192554
CREATED:20210930T100550Z
LAST-MODIFIED:20220212T105828Z
UID:9780-1645733700-1645740900@brignoles-basket-ball.fr
SUMMARY:MATCH DM2
DESCRIPTION:  \nBrignoles Basket Ball      vs        Athlétic Sporting Arcois
URL:https://brignoles-basket-ball.fr/evenement/copy-of-match-dm2-5/
LOCATION:COMPLEXE SPORTIF JEAN JACQUES MARCEL\, 5 Bd Just Marie Raynouard\, Brignoles\, 83170
CATEGORIES:Match
ATTACH;FMTTYPE=image/png:https://brignoles-basket-ball.fr/wp-content/uploads/2021/09/m_dm2-V1.png
END:VEVENT
BEGIN:VEVENT
DTSTART;TZID=Europe/Paris:20220127T201500
DTEND;TZID=Europe/Paris:20220127T221500
DTSTAMP:20260425T192554
CREATED:20210930T100550Z
LAST-MODIFIED:20220123T200946Z
UID:9689-1643314500-1643321700@brignoles-basket-ball.fr
SUMMARY:MATCH DM2
DESCRIPTION:  \nBrignoles Basket Ball      vs          Basket Cuers/Pierrefeu
URL:https://brignoles-basket-ball.fr/evenement/copy-of-match-dm2-4/
LOCATION:COMPLEXE SPORTIF JEAN JACQUES MARCEL\, 5 Bd Just Marie Raynouard\, Brignoles\, 83170
CATEGORIES:Match
ATTACH;FMTTYPE=image/png:https://brignoles-basket-ball.fr/wp-content/uploads/2021/09/m_dm2-V1.png
END:VEVENT
BEGIN:VEVENT
DTSTART;TZID=Europe/Paris:20220120T203000
DTEND;TZID=Europe/Paris:20220120T223000
DTSTAMP:20260425T192554
CREATED:20210930T100550Z
LAST-MODIFIED:20220109T230744Z
UID:9270-1642710600-1642717800@brignoles-basket-ball.fr
SUMMARY:MATCH DM2
DESCRIPTION:EN – CTC DRACENIE83 – DRAGUIGNAN UNION CLUB VS BRIGNOLES BASKET BALL 
URL:https://brignoles-basket-ball.fr/evenement/copy-of-match-dm2-3/
LOCATION:SALLE NASARRE\, 74 RUE VICTOR GELU\, DRAGUIGNAN\, VAR\, 83300\, France
CATEGORIES:Match
ATTACH;FMTTYPE=image/png:https://brignoles-basket-ball.fr/wp-content/uploads/2021/09/m_dm2-V1.png
END:VEVENT
BEGIN:VEVENT
DTSTART;TZID=Europe/Paris:20220106T200000
DTEND;TZID=Europe/Paris:20220106T220000
DTSTAMP:20260425T192554
CREATED:20210930T100550Z
LAST-MODIFIED:20211213T134635Z
UID:9040-1641499200-1641506400@brignoles-basket-ball.fr
SUMMARY:MATCH DM2
DESCRIPTION:BRIGNOLES BASKET BALL VS BASKET CLUB SOLLIES FARLEDE
URL:https://brignoles-basket-ball.fr/evenement/copy-of-match-dm2-2/
LOCATION:COMPLEXE SPORTIF JEAN JACQUES MARCEL\, 5 Bd Just Marie Raynouard\, Brignoles\, 83170
CATEGORIES:Match
ATTACH;FMTTYPE=image/png:https://brignoles-basket-ball.fr/wp-content/uploads/2021/09/m_dm2-V1.png
END:VEVENT
END:VCALENDAR