BEGIN:VCALENDAR
VERSION:2.0
PRODID:-//Brignoles Basket-Ball - ECPv6.15.20//NONSGML v1.0//EN
CALSCALE:GREGORIAN
METHOD:PUBLISH
X-ORIGINAL-URL:https://brignoles-basket-ball.fr
X-WR-CALDESC:Évènements pour Brignoles Basket-Ball
REFRESH-INTERVAL;VALUE=DURATION:PT1H
X-Robots-Tag:noindex
X-PUBLISHED-TTL:PT1H
BEGIN:VTIMEZONE
TZID:Europe/Paris
BEGIN:DAYLIGHT
TZOFFSETFROM:+0100
TZOFFSETTO:+0200
TZNAME:CEST
DTSTART:20210328T010000
END:DAYLIGHT
BEGIN:STANDARD
TZOFFSETFROM:+0200
TZOFFSETTO:+0100
TZNAME:CET
DTSTART:20211031T010000
END:STANDARD
BEGIN:DAYLIGHT
TZOFFSETFROM:+0100
TZOFFSETTO:+0200
TZNAME:CEST
DTSTART:20220327T010000
END:DAYLIGHT
BEGIN:STANDARD
TZOFFSETFROM:+0200
TZOFFSETTO:+0100
TZNAME:CET
DTSTART:20221030T010000
END:STANDARD
BEGIN:DAYLIGHT
TZOFFSETFROM:+0100
TZOFFSETTO:+0200
TZNAME:CEST
DTSTART:20230326T010000
END:DAYLIGHT
BEGIN:STANDARD
TZOFFSETFROM:+0200
TZOFFSETTO:+0100
TZNAME:CET
DTSTART:20231029T010000
END:STANDARD
END:VTIMEZONE
BEGIN:VEVENT
DTSTART;TZID=Europe/Paris:20220305T130000
DTEND;TZID=Europe/Paris:20220305T150000
DTSTAMP:20260424T101141
CREATED:20210930T100548Z
LAST-MODIFIED:20220227T221330Z
UID:10027-1646485200-1646492400@brignoles-basket-ball.fr
SUMMARY:MATCH DFU11
DESCRIPTION:Hyères Toulon Var Basket – 2 VS Brignoles Basket Ball
URL:https://brignoles-basket-ball.fr/evenement/copy-of-match-dfu11-3/
LOCATION:GYMNASE du PIN D’ALEP\, Chemin de Moneiret\, TOULON\, VAR\, 83000\, France
CATEGORIES:Match
ATTACH;FMTTYPE=image/png:https://brignoles-basket-ball.fr/wp-content/uploads/2021/09/F-D11-V1.png
END:VEVENT
BEGIN:VEVENT
DTSTART;TZID=Europe/Paris:20220312T120000
DTEND;TZID=Europe/Paris:20220312T140000
DTSTAMP:20260424T101141
CREATED:20210930T100548Z
LAST-MODIFIED:20220306T160313Z
UID:10248-1647086400-1647093600@brignoles-basket-ball.fr
SUMMARY:MATCH DFU11
DESCRIPTION:Brignoles Basket Ball vs La Seyne Basket
URL:https://brignoles-basket-ball.fr/evenement/copy-of-match-dfu11-4/
LOCATION:COMPLEXE SPORTIF JEAN JACQUES MARCEL\, 5 Bd Just Marie Raynouard\, Brignoles\, 83170
CATEGORIES:Match
ATTACH;FMTTYPE=image/png:https://brignoles-basket-ball.fr/wp-content/uploads/2021/09/F-D11-V1.png
END:VEVENT
BEGIN:VEVENT
DTSTART;TZID=Europe/Paris:20220320T091500
DTEND;TZID=Europe/Paris:20220320T111500
DTSTAMP:20260424T101141
CREATED:20210930T100548Z
LAST-MODIFIED:20220314T222249Z
UID:10284-1647767700-1647774900@brignoles-basket-ball.fr
SUMMARY:MATCH DFU11
DESCRIPTION:Athlétic Basket Club – Baume Saint-Maximi vs Brignoles Basket Ball
URL:https://brignoles-basket-ball.fr/evenement/copy-of-match-dfu11-5/
LOCATION:COSEC Henri MATISSE\, route de Brignoles\, SAINT-MAXIMIN-LA-SAINTE-BAUME\, VAR\, 83470\, France
CATEGORIES:Match
ATTACH;FMTTYPE=image/png:https://brignoles-basket-ball.fr/wp-content/uploads/2021/09/F-D11-V1.png
END:VEVENT
END:VCALENDAR