BEGIN:VCALENDAR
VERSION:2.0
PRODID:-//Brignoles Basket-Ball - ECPv6.15.20//NONSGML v1.0//EN
CALSCALE:GREGORIAN
METHOD:PUBLISH
X-ORIGINAL-URL:https://brignoles-basket-ball.fr
X-WR-CALDESC:Évènements pour Brignoles Basket-Ball
REFRESH-INTERVAL;VALUE=DURATION:PT1H
X-Robots-Tag:noindex
X-PUBLISHED-TTL:PT1H
BEGIN:VTIMEZONE
TZID:Europe/Paris
BEGIN:DAYLIGHT
TZOFFSETFROM:+0100
TZOFFSETTO:+0200
TZNAME:CEST
DTSTART:20200329T010000
END:DAYLIGHT
BEGIN:STANDARD
TZOFFSETFROM:+0200
TZOFFSETTO:+0100
TZNAME:CET
DTSTART:20201025T010000
END:STANDARD
BEGIN:DAYLIGHT
TZOFFSETFROM:+0100
TZOFFSETTO:+0200
TZNAME:CEST
DTSTART:20210328T010000
END:DAYLIGHT
BEGIN:STANDARD
TZOFFSETFROM:+0200
TZOFFSETTO:+0100
TZNAME:CET
DTSTART:20211031T010000
END:STANDARD
BEGIN:DAYLIGHT
TZOFFSETFROM:+0100
TZOFFSETTO:+0200
TZNAME:CEST
DTSTART:20220327T010000
END:DAYLIGHT
BEGIN:STANDARD
TZOFFSETFROM:+0200
TZOFFSETTO:+0100
TZNAME:CET
DTSTART:20221030T010000
END:STANDARD
END:VTIMEZONE
BEGIN:VEVENT
DTSTART;TZID=Europe/Paris:20211204T133000
DTEND;TZID=Europe/Paris:20211204T153000
DTSTAMP:20260424T142701
CREATED:20210930T100558Z
LAST-MODIFIED:20211128T161343Z
UID:6448-1638624600-1638631800@brignoles-basket-ball.fr
SUMMARY:MATCH DFU11
DESCRIPTION:LA SEYNE BASKET VS BRIGNOLES BASKET BALL
URL:https://brignoles-basket-ball.fr/evenement/__trashed-114/
LOCATION:SALLE PAUL LANGEVIN\, Bd de L'EUROPE\, LA SEYNE-SUR-MER\, VAR\, 83500\, France
CATEGORIES:Match
ATTACH;FMTTYPE=image/png:https://brignoles-basket-ball.fr/wp-content/uploads/2021/09/F-D11-V1.png
END:VEVENT
BEGIN:VEVENT
DTSTART;TZID=Europe/Paris:20211211T140000
DTEND;TZID=Europe/Paris:20211211T160000
DTSTAMP:20260424T142701
CREATED:20210930T100548Z
LAST-MODIFIED:20211205T155751Z
UID:8484-1639231200-1639238400@brignoles-basket-ball.fr
SUMMARY:MATCH DFU11
DESCRIPTION:BRIGNOLES BASKET BALL VS ATHLETIC BASKET CLUB – BAUME SAINT-MAXIMIN
URL:https://brignoles-basket-ball.fr/evenement/copy-of-match-dfu11/
LOCATION:COMPLEXE SPORTIF JEAN JACQUES MARCEL\, 5 Bd Just Marie Raynouard\, Brignoles\, 83170
CATEGORIES:Match
ATTACH;FMTTYPE=image/png:https://brignoles-basket-ball.fr/wp-content/uploads/2021/09/F-D11-V1.png
END:VEVENT
END:VCALENDAR