BEGIN:VCALENDAR
VERSION:2.0
PRODID:-//Brignoles Basket-Ball - ECPv6.15.20//NONSGML v1.0//EN
CALSCALE:GREGORIAN
METHOD:PUBLISH
X-ORIGINAL-URL:https://brignoles-basket-ball.fr
X-WR-CALDESC:Évènements pour Brignoles Basket-Ball
REFRESH-INTERVAL;VALUE=DURATION:PT1H
X-Robots-Tag:noindex
X-PUBLISHED-TTL:PT1H
BEGIN:VTIMEZONE
TZID:Europe/Paris
BEGIN:DAYLIGHT
TZOFFSETFROM:+0100
TZOFFSETTO:+0200
TZNAME:CEST
DTSTART:20230326T010000
END:DAYLIGHT
BEGIN:STANDARD
TZOFFSETFROM:+0200
TZOFFSETTO:+0100
TZNAME:CET
DTSTART:20231029T010000
END:STANDARD
BEGIN:DAYLIGHT
TZOFFSETFROM:+0100
TZOFFSETTO:+0200
TZNAME:CEST
DTSTART:20240331T010000
END:DAYLIGHT
BEGIN:STANDARD
TZOFFSETFROM:+0200
TZOFFSETTO:+0100
TZNAME:CET
DTSTART:20241027T010000
END:STANDARD
BEGIN:DAYLIGHT
TZOFFSETFROM:+0100
TZOFFSETTO:+0200
TZNAME:CEST
DTSTART:20250330T010000
END:DAYLIGHT
BEGIN:STANDARD
TZOFFSETFROM:+0200
TZOFFSETTO:+0100
TZNAME:CET
DTSTART:20251026T010000
END:STANDARD
END:VTIMEZONE
BEGIN:VEVENT
DTSTART;TZID=Europe/Paris:20241207T130000
DTEND;TZID=Europe/Paris:20241207T150000
DTSTAMP:20260423T111827
CREATED:20210930T100558Z
LAST-MODIFIED:20241201T223147Z
UID:25606-1733576400-1733583600@brignoles-basket-ball.fr
SUMMARY:MATCH DFU13
DESCRIPTION:  \n  \n  \n  \nBrignoles Basket Ball  vs  Roquebrune Sur Argens Ca  \n 
URL:https://brignoles-basket-ball.fr/evenement/copy-of-match-dfu13-19/
LOCATION:SALLE RAYNOUARD\,  Avenue des Martyrs de la Résistance\, BRIGNOLES\, VAR\, 83170\, France
CATEGORIES:Match
ATTACH;FMTTYPE=image/png:https://brignoles-basket-ball.fr/wp-content/uploads/2021/09/F-D13-e1696189000517.png
END:VEVENT
BEGIN:VEVENT
DTSTART;TZID=Europe/Paris:20241214T130000
DTEND;TZID=Europe/Paris:20241214T150000
DTSTAMP:20260423T111827
CREATED:20210930T100558Z
LAST-MODIFIED:20241208T231415Z
UID:25641-1734181200-1734188400@brignoles-basket-ball.fr
SUMMARY:MATCH DFU13
DESCRIPTION:  \n  \n  \nFréjus Var Basket AMSL                vs           Brignoles Basket Ball \n 
URL:https://brignoles-basket-ball.fr/evenement/copy-of-match-dfu13-20/
LOCATION:HALL DES SPORTS LES CHENES\, Frejus Var Basket\, FREJUS\, VAR\, 83370\, France
CATEGORIES:Match
ATTACH;FMTTYPE=image/png:https://brignoles-basket-ball.fr/wp-content/uploads/2021/09/F-D13-e1696189000517.png
END:VEVENT
END:VCALENDAR