BEGIN:VCALENDAR
VERSION:2.0
PRODID:-//Brignoles Basket-Ball - ECPv6.15.20//NONSGML v1.0//EN
CALSCALE:GREGORIAN
METHOD:PUBLISH
X-WR-CALNAME:Brignoles Basket-Ball
X-ORIGINAL-URL:https://brignoles-basket-ball.fr
X-WR-CALDESC:Évènements pour Brignoles Basket-Ball
REFRESH-INTERVAL;VALUE=DURATION:PT1H
X-Robots-Tag:noindex
X-PUBLISHED-TTL:PT1H
BEGIN:VTIMEZONE
TZID:Europe/Paris
BEGIN:DAYLIGHT
TZOFFSETFROM:+0100
TZOFFSETTO:+0200
TZNAME:CEST
DTSTART:20230326T010000
END:DAYLIGHT
BEGIN:STANDARD
TZOFFSETFROM:+0200
TZOFFSETTO:+0100
TZNAME:CET
DTSTART:20231029T010000
END:STANDARD
BEGIN:DAYLIGHT
TZOFFSETFROM:+0100
TZOFFSETTO:+0200
TZNAME:CEST
DTSTART:20240331T010000
END:DAYLIGHT
BEGIN:STANDARD
TZOFFSETFROM:+0200
TZOFFSETTO:+0100
TZNAME:CET
DTSTART:20241027T010000
END:STANDARD
BEGIN:DAYLIGHT
TZOFFSETFROM:+0100
TZOFFSETTO:+0200
TZNAME:CEST
DTSTART:20250330T010000
END:DAYLIGHT
BEGIN:STANDARD
TZOFFSETFROM:+0200
TZOFFSETTO:+0100
TZNAME:CET
DTSTART:20251026T010000
END:STANDARD
END:VTIMEZONE
BEGIN:VEVENT
DTSTART;TZID=Europe/Paris:20241109T130000
DTEND;TZID=Europe/Paris:20241109T150000
DTSTAMP:20260423T125210
CREATED:20210930T100558Z
LAST-MODIFIED:20241027T193246Z
UID:25256-1731157200-1731164400@brignoles-basket-ball.fr
SUMMARY:MATCH DFU13
DESCRIPTION:  \n  \n  \n  \nBrignoles Basket Ball       vs   Basket Club La Garde \n 
URL:https://brignoles-basket-ball.fr/evenement/copy-of-match-dfu13-16/
LOCATION:SALLE RAYNOUARD\,  Avenue des Martyrs de la Résistance\, BRIGNOLES\, VAR\, 83170\, France
CATEGORIES:Match
ATTACH;FMTTYPE=image/png:https://brignoles-basket-ball.fr/wp-content/uploads/2021/09/F-D13-e1696189000517.png
END:VEVENT
BEGIN:VEVENT
DTSTART;TZID=Europe/Paris:20241116T140000
DTEND;TZID=Europe/Paris:20241116T160000
DTSTAMP:20260423T125210
CREATED:20210930T100558Z
LAST-MODIFIED:20241110T211404Z
UID:25284-1731765600-1731772800@brignoles-basket-ball.fr
SUMMARY:MATCH DFU13
DESCRIPTION:  \n  \n  \n  \nBrignoles Basket Ball        vs        EN – CTC ASPTT Toulon-La Valette \n 
URL:https://brignoles-basket-ball.fr/evenement/copy-of-match-dfu13-17/
LOCATION:SALLE RAYNOUARD\,  Avenue des Martyrs de la Résistance\, BRIGNOLES\, VAR\, 83170\, France
CATEGORIES:Match
ATTACH;FMTTYPE=image/png:https://brignoles-basket-ball.fr/wp-content/uploads/2021/09/F-D13-e1696189000517.png
END:VEVENT
BEGIN:VEVENT
DTSTART;TZID=Europe/Paris:20241130T130000
DTEND;TZID=Europe/Paris:20241130T150000
DTSTAMP:20260423T125210
CREATED:20210930T100558Z
LAST-MODIFIED:20241124T134443Z
UID:25552-1732971600-1732978800@brignoles-basket-ball.fr
SUMMARY:MATCH DFU13
DESCRIPTION:  \n  \n  \n  \nClub Sportif Cavalairois     vs   Brignoles Basket Ball \n 
URL:https://brignoles-basket-ball.fr/evenement/copy-of-match-dfu13-18/
LOCATION:COMPLEXE HENRI GROS (SALLE 1)\, AVENUE Pierre ET Marie CURIE\, CAVALAIRE-SUR-MER\, VAR\, 83240\, France
CATEGORIES:Match
ATTACH;FMTTYPE=image/png:https://brignoles-basket-ball.fr/wp-content/uploads/2021/09/F-D13-e1696189000517.png
END:VEVENT
END:VCALENDAR