BEGIN:VCALENDAR
VERSION:2.0
PRODID:-//Brignoles Basket-Ball - ECPv6.15.20//NONSGML v1.0//EN
CALSCALE:GREGORIAN
METHOD:PUBLISH
X-ORIGINAL-URL:https://brignoles-basket-ball.fr
X-WR-CALDESC:Évènements pour Brignoles Basket-Ball
REFRESH-INTERVAL;VALUE=DURATION:PT1H
X-Robots-Tag:noindex
X-PUBLISHED-TTL:PT1H
BEGIN:VTIMEZONE
TZID:Europe/Paris
BEGIN:DAYLIGHT
TZOFFSETFROM:+0100
TZOFFSETTO:+0200
TZNAME:CEST
DTSTART:20250330T010000
END:DAYLIGHT
BEGIN:STANDARD
TZOFFSETFROM:+0200
TZOFFSETTO:+0100
TZNAME:CET
DTSTART:20251026T010000
END:STANDARD
BEGIN:DAYLIGHT
TZOFFSETFROM:+0100
TZOFFSETTO:+0200
TZNAME:CEST
DTSTART:20260329T010000
END:DAYLIGHT
BEGIN:STANDARD
TZOFFSETFROM:+0200
TZOFFSETTO:+0100
TZNAME:CET
DTSTART:20261025T010000
END:STANDARD
BEGIN:DAYLIGHT
TZOFFSETFROM:+0100
TZOFFSETTO:+0200
TZNAME:CEST
DTSTART:20270328T010000
END:DAYLIGHT
BEGIN:STANDARD
TZOFFSETFROM:+0200
TZOFFSETTO:+0100
TZNAME:CET
DTSTART:20271031T010000
END:STANDARD
END:VTIMEZONE
BEGIN:VEVENT
DTSTART;TZID=Europe/Paris:20260502T090000
DTEND;TZID=Europe/Paris:20260502T120000
DTSTAMP:20260425T225231
CREATED:20260424T220926Z
LAST-MODIFIED:20260424T221301Z
UID:35047-1777712400-1777723200@brignoles-basket-ball.fr
SUMMARY:🏀 Fête du Baby U7 – 2026 🏀
DESCRIPTION:Les baby-basketteurs lancent la Fête du Mini-Basket 2026 ! Le samedi 2 mai 2026\, les U7 du Var se réuniront à La Crau pour la Fête du Baby !\n\n\nTout au long de la saison\, nos jeunes basketteurs ont appris\, progressé et grandi… Il est maintenant temps pour eux de briller sur le terrain et de partager leur enthousiasme avec leurs familles et supporters ! \n\n\nVenez encourager la relève du basket varois et vibrer au rythme des premiers paniers et des grandes émotions ! \n\n\n Samedi 2 mai de 9h à 12h\nComplexe sportif de l’Estagnol\n1602 avenue de Toulon – 83260 La Crau
URL:https://brignoles-basket-ball.fr/evenement/%f0%9f%8f%80-fete-du-baby-u7-2026-%f0%9f%8f%80/
LOCATION:Complexe sportif de l’Estagnol\, 1602 avenue de Toulon\, La Crau\, 83260\, France
CATEGORIES:Tournoi
ATTACH;FMTTYPE=image/jpeg:https://brignoles-basket-ball.fr/wp-content/uploads/2026/04/chalenge-u7.jpg
END:VEVENT
END:VCALENDAR