BEGIN:VCALENDAR
VERSION:2.0
PRODID:-//Brignoles Basket-Ball - ECPv6.15.20//NONSGML v1.0//EN
CALSCALE:GREGORIAN
METHOD:PUBLISH
X-WR-CALNAME:Brignoles Basket-Ball
X-ORIGINAL-URL:https://brignoles-basket-ball.fr
X-WR-CALDESC:Évènements pour Brignoles Basket-Ball
REFRESH-INTERVAL;VALUE=DURATION:PT1H
X-Robots-Tag:noindex
X-PUBLISHED-TTL:PT1H
BEGIN:VTIMEZONE
TZID:Europe/Paris
BEGIN:DAYLIGHT
TZOFFSETFROM:+0100
TZOFFSETTO:+0200
TZNAME:CEST
DTSTART:20250330T010000
END:DAYLIGHT
BEGIN:STANDARD
TZOFFSETFROM:+0200
TZOFFSETTO:+0100
TZNAME:CET
DTSTART:20251026T010000
END:STANDARD
BEGIN:DAYLIGHT
TZOFFSETFROM:+0100
TZOFFSETTO:+0200
TZNAME:CEST
DTSTART:20260329T010000
END:DAYLIGHT
BEGIN:STANDARD
TZOFFSETFROM:+0200
TZOFFSETTO:+0100
TZNAME:CET
DTSTART:20261025T010000
END:STANDARD
BEGIN:DAYLIGHT
TZOFFSETFROM:+0100
TZOFFSETTO:+0200
TZNAME:CEST
DTSTART:20270328T010000
END:DAYLIGHT
BEGIN:STANDARD
TZOFFSETFROM:+0200
TZOFFSETTO:+0100
TZNAME:CET
DTSTART:20271031T010000
END:STANDARD
END:VTIMEZONE
BEGIN:VEVENT
DTSTART;TZID=Europe/Paris:20260228T093000
DTEND;TZID=Europe/Paris:20260228T220000
DTSTAMP:20260426T003635
CREATED:20260218T105402Z
LAST-MODIFIED:20260223T230951Z
UID:34793-1772271000-1772316000@brignoles-basket-ball.fr
SUMMARY:TOURNOI INTER EQUIPE
DESCRIPTION:Rappel à tous les licencies\n \n \nSAMEDI 28 FEVRIER\nTOURNOI INTER EQUIPE\nComplexe Jean Jacques Marcel\n \nDéroulement du tournoi :\n– 10h – 15h = U7 à U13\n– ⁠Tournoi enfant – parent\n– ⁠un tableau d’ordre de passage des matchs sera établi.\n– ⁠Arrivée des joueurs vers 09h20\n– ⁠Début des matchs à 10h\n \n– 15h – 22h = U15 à loisirs\n– ⁠14h à 14h30 inscription individuelle\n– ⁠14h30 – 15h constitution des équipes par tirage au sort (catégories mélangées)\n– ⁠18h début des matchs\n \nUne buvette et petite restauration sera disponible.\n \nN’hésitez pas à venir passer un bon moment de convivialité…
URL:https://brignoles-basket-ball.fr/evenement/tournoi-inter-equipe-2/
LOCATION:COMPLEXE SPORTIF JEAN JACQUES MARCEL\, 5 Bd Just Marie Raynouard\, Brignoles\, 83170
CATEGORIES:Tournoi
ATTACH;FMTTYPE=image/jpeg:https://brignoles-basket-ball.fr/wp-content/uploads/2026/02/3959b4d2-fc9e-4420-9b24-cc7015b947ec.jpg
END:VEVENT
END:VCALENDAR