BEGIN:VCALENDAR
VERSION:2.0
PRODID:-//Brignoles Basket-Ball - ECPv6.15.20//NONSGML v1.0//EN
CALSCALE:GREGORIAN
METHOD:PUBLISH
X-WR-CALNAME:Brignoles Basket-Ball
X-ORIGINAL-URL:https://brignoles-basket-ball.fr
X-WR-CALDESC:Évènements pour Brignoles Basket-Ball
REFRESH-INTERVAL;VALUE=DURATION:PT1H
X-Robots-Tag:noindex
X-PUBLISHED-TTL:PT1H
BEGIN:VTIMEZONE
TZID:Europe/Paris
BEGIN:DAYLIGHT
TZOFFSETFROM:+0100
TZOFFSETTO:+0200
TZNAME:CEST
DTSTART:20250330T010000
END:DAYLIGHT
BEGIN:STANDARD
TZOFFSETFROM:+0200
TZOFFSETTO:+0100
TZNAME:CET
DTSTART:20251026T010000
END:STANDARD
BEGIN:DAYLIGHT
TZOFFSETFROM:+0100
TZOFFSETTO:+0200
TZNAME:CEST
DTSTART:20260329T010000
END:DAYLIGHT
BEGIN:STANDARD
TZOFFSETFROM:+0200
TZOFFSETTO:+0100
TZNAME:CET
DTSTART:20261025T010000
END:STANDARD
BEGIN:DAYLIGHT
TZOFFSETFROM:+0100
TZOFFSETTO:+0200
TZNAME:CEST
DTSTART:20270328T010000
END:DAYLIGHT
BEGIN:STANDARD
TZOFFSETFROM:+0200
TZOFFSETTO:+0100
TZNAME:CET
DTSTART:20271031T010000
END:STANDARD
END:VTIMEZONE
BEGIN:VEVENT
DTSTART;TZID=Europe/Paris:20260613T080000
DTEND;TZID=Europe/Paris:20260614T180000
DTSTAMP:20260425T224755
CREATED:20260218T110032Z
LAST-MODIFIED:20260424T221218Z
UID:34796-1781337600-1781460000@brignoles-basket-ball.fr
SUMMARY:TOURNOI DU BBB 2026
DESCRIPTION:LE BRIGNOLES BASKET BALL (BBB) ORGANISE\n\n\nSON TRADITIONNEL TOURNOI DE FIN D’ANNEE\n\n\nLES 13 ET 14 JUIN 2026\n \n\n\nCOLLEGE JEAN MOULIN – BRIGNOLES 83\n \n\n\nSAMEDI 13 JUIN 2026\n\n\nTOURNOIS U11M\, U11F\, U13M\, U13F\, U15F\n \n\n\nDIMANCHE 14 JUIN 2026\n\n\nTOURNOIS U15M (2 poules)\, U18M (2 poules)\, Séniors M\n \n\n\nQUI SUCCEDERA A OLLIOULES\, VAINQUEUR DU TROPHEE LORS DE L’EDITION 2025 ???\n \n\n\nInscriptions dans l’ordre chronologique d’arrivée\n\n \nView FullscreenAller au contenu PDF\n \n\nPaiement : Par chèque à l’ordre de « BBB »\n\n\nOu par Virement : FR76 1910 6000 0243 6955 0226 684\n\n\nBulletin à retourner par courrier\, avant le 25 MAI à :\nPascal FABRE – 62\, chemin de La Roguière – 83143 LE VAL\n\n\npar mail : contact@brignoles-basket-ball.fr\n\n\nDossier et renseignement disponible sur notre site : brignoles-basket-ball.fr
URL:https://brignoles-basket-ball.fr/evenement/tournoi-du-bbb-2026/
LOCATION:GYMNASE DU COLLEGE JEAN MOULIN\, 648 R. de la Viguière\, 83170 Brignoles\, BRIGNOLES\, 83170
CATEGORIES:Tournoi
ATTACH;FMTTYPE=image/jpeg:https://brignoles-basket-ball.fr/wp-content/uploads/2026/02/2026.jpg
END:VEVENT
END:VCALENDAR